BEGIN:VCALENDAR
VERSION:2.0
PRODID:-//Church of the Sacred Heart - ECPv6.15.20//NONSGML v1.0//EN
CALSCALE:GREGORIAN
METHOD:PUBLISH
X-ORIGINAL-URL:https://churchofthesacredheart.net
X-WR-CALDESC:Events for Church of the Sacred Heart
REFRESH-INTERVAL;VALUE=DURATION:PT1H
X-Robots-Tag:noindex
X-PUBLISHED-TTL:PT1H
BEGIN:VTIMEZONE
TZID:America/New_York
BEGIN:DAYLIGHT
TZOFFSETFROM:-0500
TZOFFSETTO:-0400
TZNAME:EDT
DTSTART:20220313T070000
END:DAYLIGHT
BEGIN:STANDARD
TZOFFSETFROM:-0400
TZOFFSETTO:-0500
TZNAME:EST
DTSTART:20221106T060000
END:STANDARD
BEGIN:DAYLIGHT
TZOFFSETFROM:-0500
TZOFFSETTO:-0400
TZNAME:EDT
DTSTART:20230312T070000
END:DAYLIGHT
BEGIN:STANDARD
TZOFFSETFROM:-0400
TZOFFSETTO:-0500
TZNAME:EST
DTSTART:20231105T060000
END:STANDARD
BEGIN:DAYLIGHT
TZOFFSETFROM:-0500
TZOFFSETTO:-0400
TZNAME:EDT
DTSTART:20240310T070000
END:DAYLIGHT
BEGIN:STANDARD
TZOFFSETFROM:-0400
TZOFFSETTO:-0500
TZNAME:EST
DTSTART:20241103T060000
END:STANDARD
BEGIN:DAYLIGHT
TZOFFSETFROM:-0500
TZOFFSETTO:-0400
TZNAME:EDT
DTSTART:20250309T070000
END:DAYLIGHT
BEGIN:STANDARD
TZOFFSETFROM:-0400
TZOFFSETTO:-0500
TZNAME:EST
DTSTART:20251102T060000
END:STANDARD
END:VTIMEZONE
BEGIN:VEVENT
DTSTART;TZID=America/New_York:20241104T183000
DTEND;TZID=America/New_York:20241104T203000
DTSTAMP:20260423T022826
CREATED:20241010T171723Z
LAST-MODIFIED:20241010T171723Z
UID:10002494-1730745000-1730752200@churchofthesacredheart.net
SUMMARY:Fr. Sico Room and Chapel in use
DESCRIPTION:Conference room & chapel
URL:https://churchofthesacredheart.net/event/fr-sico-room-and-chapel-in-use/
LOCATION:Fr. Sico Conferene Room\, 149 South Plainfield\, SOUTH PLAINFIELD\, NJ\, 07080\, United States
END:VEVENT
BEGIN:VEVENT
DTSTART;TZID=America/New_York:20240904T190000
DTEND;TZID=America/New_York:20240904T210000
DTSTAMP:20260423T022826
CREATED:20240805T151635Z
LAST-MODIFIED:20240805T151635Z
UID:10002434-1725476400-1725483600@churchofthesacredheart.net
SUMMARY:Oktoberfest committee meeting
DESCRIPTION:
URL:https://churchofthesacredheart.net/event/oktoberfest-committee-meeting/
LOCATION:Fr. Sico Conferene Room\, 149 South Plainfield\, SOUTH PLAINFIELD\, NJ\, 07080\, United States
END:VEVENT
BEGIN:VEVENT
DTSTART;TZID=America/New_York:20230325T100000
DTEND;TZID=America/New_York:20230325T120000
DTSTAMP:20260423T022826
CREATED:20220609T123338Z
LAST-MODIFIED:20220609T123338Z
UID:10000009-1679738400-1679745600@churchofthesacredheart.net
SUMMARY:Carmelite Meeting
DESCRIPTION:
URL:https://churchofthesacredheart.net/event/carmelite-meeting-10/
LOCATION:Fr. Sico Conferene Room\, 149 South Plainfield\, SOUTH PLAINFIELD\, NJ\, 07080\, United States
CATEGORIES:Carmelites
END:VEVENT
END:VCALENDAR