BEGIN:VCALENDAR
VERSION:2.0
PRODID:-//Church of the Sacred Heart - ECPv6.15.20//NONSGML v1.0//EN
CALSCALE:GREGORIAN
METHOD:PUBLISH
X-WR-CALNAME:Church of the Sacred Heart
X-ORIGINAL-URL:https://churchofthesacredheart.net
X-WR-CALDESC:Events for Church of the Sacred Heart
REFRESH-INTERVAL;VALUE=DURATION:PT1H
X-Robots-Tag:noindex
X-PUBLISHED-TTL:PT1H
BEGIN:VTIMEZONE
TZID:America/New_York
BEGIN:DAYLIGHT
TZOFFSETFROM:-0500
TZOFFSETTO:-0400
TZNAME:EDT
DTSTART:20220313T070000
END:DAYLIGHT
BEGIN:STANDARD
TZOFFSETFROM:-0400
TZOFFSETTO:-0500
TZNAME:EST
DTSTART:20221106T060000
END:STANDARD
BEGIN:DAYLIGHT
TZOFFSETFROM:-0500
TZOFFSETTO:-0400
TZNAME:EDT
DTSTART:20230312T070000
END:DAYLIGHT
BEGIN:STANDARD
TZOFFSETFROM:-0400
TZOFFSETTO:-0500
TZNAME:EST
DTSTART:20231105T060000
END:STANDARD
BEGIN:DAYLIGHT
TZOFFSETFROM:-0500
TZOFFSETTO:-0400
TZNAME:EDT
DTSTART:20240310T070000
END:DAYLIGHT
BEGIN:STANDARD
TZOFFSETFROM:-0400
TZOFFSETTO:-0500
TZNAME:EST
DTSTART:20241103T060000
END:STANDARD
END:VTIMEZONE
BEGIN:VEVENT
DTSTART;TZID=America/New_York:20230422T080000
DTEND;TZID=America/New_York:20230422T170000
DTSTAMP:20260422T231436
CREATED:20230323T142600Z
LAST-MODIFIED:20230323T143021Z
UID:10000043-1682150400-1682182800@churchofthesacredheart.net
SUMMARY:Life Choices Baby Bottle Fundraiser
DESCRIPTION:speaker at all Masses \nbottle collection 5/7 & 5/8 \n 
URL:https://churchofthesacredheart.net/event/life-choices-baby-bottle-fundraiser/
LOCATION:Church
CATEGORIES:Fundraiser
END:VEVENT
BEGIN:VEVENT
DTSTART;TZID=America/New_York:20230423T080000
DTEND;TZID=America/New_York:20230423T170000
DTSTAMP:20260422T231436
CREATED:20230323T142643Z
LAST-MODIFIED:20230323T142935Z
UID:10000044-1682236800-1682269200@churchofthesacredheart.net
SUMMARY:Life Choices Baby Bottle Fundraiser
DESCRIPTION:speaker at all Masses \ncollection of bottles 5/7 & 5/8
URL:https://churchofthesacredheart.net/event/life-choices-baby-bottle-fundraiser-2/
LOCATION:Church
CATEGORIES:Fundraiser
END:VEVENT
END:VCALENDAR