BEGIN:VCALENDAR
VERSION:2.0
PRODID:-//Church of the Sacred Heart - ECPv6.15.20//NONSGML v1.0//EN
CALSCALE:GREGORIAN
METHOD:PUBLISH
X-ORIGINAL-URL:https://churchofthesacredheart.net
X-WR-CALDESC:Events for Church of the Sacred Heart
REFRESH-INTERVAL;VALUE=DURATION:PT1H
X-Robots-Tag:noindex
X-PUBLISHED-TTL:PT1H
BEGIN:VTIMEZONE
TZID:America/New_York
BEGIN:DAYLIGHT
TZOFFSETFROM:-0500
TZOFFSETTO:-0400
TZNAME:EDT
DTSTART:20250309T070000
END:DAYLIGHT
BEGIN:STANDARD
TZOFFSETFROM:-0400
TZOFFSETTO:-0500
TZNAME:EST
DTSTART:20251102T060000
END:STANDARD
BEGIN:DAYLIGHT
TZOFFSETFROM:-0500
TZOFFSETTO:-0400
TZNAME:EDT
DTSTART:20260308T070000
END:DAYLIGHT
BEGIN:STANDARD
TZOFFSETFROM:-0400
TZOFFSETTO:-0500
TZNAME:EST
DTSTART:20261101T060000
END:STANDARD
BEGIN:DAYLIGHT
TZOFFSETFROM:-0500
TZOFFSETTO:-0400
TZNAME:EDT
DTSTART:20270314T070000
END:DAYLIGHT
BEGIN:STANDARD
TZOFFSETFROM:-0400
TZOFFSETTO:-0500
TZNAME:EST
DTSTART:20271107T060000
END:STANDARD
END:VTIMEZONE
BEGIN:VEVENT
DTSTART;TZID=America/New_York:20260602T190000
DTEND;TZID=America/New_York:20260602T200000
DTSTAMP:20260419T173225
CREATED:20250903T001120Z
LAST-MODIFIED:20250903T001120Z
UID:10002800-1780426800-1780430400@churchofthesacredheart.net
SUMMARY:Baptism Class
DESCRIPTION:
URL:https://churchofthesacredheart.net/event/baptism-class-9/
LOCATION:Parish Center
END:VEVENT
BEGIN:VEVENT
DTSTART;TZID=America/New_York:20260602T190000
DTEND;TZID=America/New_York:20260602T200000
DTSTAMP:20260419T173225
CREATED:20250903T001155Z
LAST-MODIFIED:20250903T001155Z
UID:10002801-1780426800-1780430400@churchofthesacredheart.net
SUMMARY:Knights of Columbus Meeting
DESCRIPTION:
URL:https://churchofthesacredheart.net/event/knights-of-columbus-meeting-4/
LOCATION:Knights Hall\, 334 Hamilton Blvd.\, SOUTH PLAINFIELD\, NJ\, 07080\, United States
END:VEVENT
BEGIN:VEVENT
DTSTART;TZID=America/New_York:20260604T140000
DTEND;TZID=America/New_York:20260604T180000
DTSTAMP:20260419T173225
CREATED:20250903T001237Z
LAST-MODIFIED:20250903T001237Z
UID:10002802-1780581600-1780596000@churchofthesacredheart.net
SUMMARY:St. Thomas High School Graduation
DESCRIPTION:
URL:https://churchofthesacredheart.net/event/st-thomas-high-school-graduation/
LOCATION:Church & HSA Gym\, 149 South Plainfield\, SOUTH PLAINFIELD\, NJ\, 07080\, United States
END:VEVENT
BEGIN:VEVENT
DTSTART;TZID=America/New_York:20260605T103000
DTEND;TZID=America/New_York:20260605T113000
DTSTAMP:20260419T173225
CREATED:20260226T155146Z
LAST-MODIFIED:20260323T161058Z
UID:10002872-1780655400-1780659000@churchofthesacredheart.net
SUMMARY:Holy Savior Baccalaureate Mass
DESCRIPTION:10:30 am Mass \nGraduation itself is in the evening at 7 pm.
URL:https://churchofthesacredheart.net/event/holy-savior-grade-8-graduation/
LOCATION:Church
END:VEVENT
BEGIN:VEVENT
DTSTART;TZID=America/New_York:20260605T190000
DTEND;TZID=America/New_York:20260605T200000
DTSTAMP:20260419T173225
CREATED:20250903T001319Z
LAST-MODIFIED:20260323T160929Z
UID:10002803-1780686000-1780689600@churchofthesacredheart.net
SUMMARY:Holy Savior Academy Graduation Ceremony
DESCRIPTION:
URL:https://churchofthesacredheart.net/event/holy-savior-academy-mass-graduation/
LOCATION:Church
END:VEVENT
BEGIN:VEVENT
DTSTART;TZID=America/New_York:20260607T090000
DTEND;TZID=America/New_York:20260607T100000
DTSTAMP:20260419T173225
CREATED:20250903T001506Z
LAST-MODIFIED:20250903T001506Z
UID:10002806-1780822800-1780826400@churchofthesacredheart.net
SUMMARY:Adult Choir
DESCRIPTION:Choir sings 9 am Mass
URL:https://churchofthesacredheart.net/event/adult-choir-33/
LOCATION:Church
END:VEVENT
BEGIN:VEVENT
DTSTART;TZID=America/New_York:20260607T090000
DTEND;TZID=America/New_York:20260607T123000
DTSTAMP:20260419T173225
CREATED:20250903T001352Z
LAST-MODIFIED:20250903T001352Z
UID:10002804-1780822800-1780835400@churchofthesacredheart.net
SUMMARY:Corpus Christi
DESCRIPTION:
URL:https://churchofthesacredheart.net/event/corpus-christi/
LOCATION:Church
END:VEVENT
BEGIN:VEVENT
DTSTART;TZID=America/New_York:20260607T113000
DTEND;TZID=America/New_York:20260607T123000
DTSTAMP:20260419T173225
CREATED:20250903T001426Z
LAST-MODIFIED:20250903T001426Z
UID:10002805-1780831800-1780835400@churchofthesacredheart.net
SUMMARY:Children's Liturgy of the Word
DESCRIPTION:
URL:https://churchofthesacredheart.net/event/childrens-liturgy-of-the-word-7/
LOCATION:Church
END:VEVENT
BEGIN:VEVENT
DTSTART;TZID=America/New_York:20260608T200000
DTEND;TZID=America/New_York:20260608T210000
DTSTAMP:20260419T173225
CREATED:20250903T001538Z
LAST-MODIFIED:20250903T001538Z
UID:10002807-1780948800-1780952400@churchofthesacredheart.net
SUMMARY:Rosary Altar Society Meeting
DESCRIPTION:
URL:https://churchofthesacredheart.net/event/rosary-altar-society-meeting-14/
LOCATION:Annex\, 149 South Plainfield Avenue\, South Plainfield\, NJ\, 07080\, United States
END:VEVENT
BEGIN:VEVENT
DTSTART;TZID=America/New_York:20260609T110000
DTEND;TZID=America/New_York:20260609T120000
DTSTAMP:20260419T173225
CREATED:20250903T001620Z
LAST-MODIFIED:20250903T001620Z
UID:10002808-1781002800-1781006400@churchofthesacredheart.net
SUMMARY:Staff Meeting
DESCRIPTION:
URL:https://churchofthesacredheart.net/event/staff-meeting-11/
LOCATION:Parish Center
END:VEVENT
BEGIN:VEVENT
DTSTART;TZID=America/New_York:20260610T190000
DTEND;TZID=America/New_York:20260610T210000
DTSTAMP:20260419T173225
CREATED:20240603T182414Z
LAST-MODIFIED:20240603T182414Z
UID:10002249-1781118000-1781125200@churchofthesacredheart.net
SUMMARY:In God's Image
DESCRIPTION:
URL:https://churchofthesacredheart.net/event/in-gods-image/2026-06-10/
END:VEVENT
BEGIN:VEVENT
DTSTART;TZID=America/New_York:20260612T090000
DTEND;TZID=America/New_York:20260612T100000
DTSTAMP:20260419T173225
CREATED:20250903T001703Z
LAST-MODIFIED:20250903T001703Z
UID:10002809-1781254800-1781258400@churchofthesacredheart.net
SUMMARY:Solemnity of the Most Sacred Heart
DESCRIPTION:
URL:https://churchofthesacredheart.net/event/solemnity-of-the-most-sacred-heart/
LOCATION:Church
END:VEVENT
BEGIN:VEVENT
DTSTART;TZID=America/New_York:20260613T190000
DTEND;TZID=America/New_York:20260613T213000
DTSTAMP:20260419T173225
CREATED:20260417T151938Z
LAST-MODIFIED:20260417T151938Z
UID:10002883-1781377200-1781386200@churchofthesacredheart.net
SUMMARY:Choir Concert
DESCRIPTION:
URL:https://churchofthesacredheart.net/event/choir-concert/
LOCATION:Church
END:VEVENT
BEGIN:VEVENT
DTSTART;TZID=America/New_York:20260614T090000
DTEND;TZID=America/New_York:20260614T100000
DTSTAMP:20260419T173225
CREATED:20250903T001741Z
LAST-MODIFIED:20250903T001741Z
UID:10002810-1781427600-1781431200@churchofthesacredheart.net
SUMMARY:Adult Choir
DESCRIPTION:Choir sings 9 am Mass
URL:https://churchofthesacredheart.net/event/adult-choir-34/
LOCATION:Church
END:VEVENT
BEGIN:VEVENT
DTSTART;TZID=America/New_York:20260614T090000
DTEND;TZID=America/New_York:20260614T123000
DTSTAMP:20260419T173225
CREATED:20250903T001816Z
LAST-MODIFIED:20250903T001816Z
UID:10002811-1781427600-1781440200@churchofthesacredheart.net
SUMMARY:Sacred Heart
DESCRIPTION:
URL:https://churchofthesacredheart.net/event/sacred-heart/
LOCATION:Church
END:VEVENT
BEGIN:VEVENT
DTSTART;TZID=America/New_York:20260614T160000
DTEND;TZID=America/New_York:20260614T180000
DTSTAMP:20260419T173225
CREATED:20250903T001926Z
LAST-MODIFIED:20250903T001926Z
UID:10002813-1781452800-1781460000@churchofthesacredheart.net
SUMMARY:Rise Up Chorus
DESCRIPTION:
URL:https://churchofthesacredheart.net/event/rise-up-chorus/
LOCATION:Church
END:VEVENT
BEGIN:VEVENT
DTSTART;TZID=America/New_York:20260616T190000
DTEND;TZID=America/New_York:20260616T210000
DTSTAMP:20260419T173225
CREATED:20251110T164426Z
LAST-MODIFIED:20251110T164426Z
UID:10002861-1781636400-1781643600@churchofthesacredheart.net
SUMMARY:Men's Spirituality Group: The Rescue Project
DESCRIPTION:
URL:https://churchofthesacredheart.net/event/mens-spirituality-group-the-rescue-project-6/
LOCATION:Annex\, 149 South Plainfield Avenue\, South Plainfield\, NJ\, 07080\, United States
END:VEVENT
BEGIN:VEVENT
DTSTART;TZID=America/New_York:20260621T113000
DTEND;TZID=America/New_York:20260621T123000
DTSTAMP:20260419T173225
CREATED:20250903T002011Z
LAST-MODIFIED:20250903T002011Z
UID:10002814-1782041400-1782045000@churchofthesacredheart.net
SUMMARY:Adult Choir
DESCRIPTION:Choir sings 11:30 Mass
URL:https://churchofthesacredheart.net/event/adult-choir-35/
LOCATION:Church
END:VEVENT
BEGIN:VEVENT
DTSTART;TZID=America/New_York:20260621T130000
DTEND;TZID=America/New_York:20260621T140000
DTSTAMP:20260419T173225
CREATED:20250903T002222Z
LAST-MODIFIED:20260410T154538Z
UID:10002817-1782046800-1782050400@churchofthesacredheart.net
SUMMARY:Baptisms
DESCRIPTION:
URL:https://churchofthesacredheart.net/event/baptisms-19/
LOCATION:Church
END:VEVENT
BEGIN:VEVENT
DTSTART;TZID=America/New_York:20260627T170000
DTEND;TZID=America/New_York:20260627T180000
DTSTAMP:20260419T173225
CREATED:20250903T002048Z
LAST-MODIFIED:20250903T002048Z
UID:10002815-1782579600-1782583200@churchofthesacredheart.net
SUMMARY:Collection: Peter's Pence
DESCRIPTION:
URL:https://churchofthesacredheart.net/event/collection-peters-pence/
LOCATION:Church
END:VEVENT
BEGIN:VEVENT
DTSTART;TZID=America/New_York:20260628T090000
DTEND;TZID=America/New_York:20260628T123000
DTSTAMP:20260419T173225
CREATED:20250903T002130Z
LAST-MODIFIED:20250903T002130Z
UID:10002816-1782637200-1782649800@churchofthesacredheart.net
SUMMARY:Collection: Peter's Pence
DESCRIPTION:Collection taken at the 9 am and 11:30 am Masses
URL:https://churchofthesacredheart.net/event/collection-peters-pence-2/
LOCATION:Church
END:VEVENT
END:VCALENDAR