BEGIN:VCALENDAR
VERSION:2.0
PRODID:-//Church of the Sacred Heart - ECPv6.15.20//NONSGML v1.0//EN
CALSCALE:GREGORIAN
METHOD:PUBLISH
X-ORIGINAL-URL:https://churchofthesacredheart.net
X-WR-CALDESC:Events for Church of the Sacred Heart
REFRESH-INTERVAL;VALUE=DURATION:PT1H
X-Robots-Tag:noindex
X-PUBLISHED-TTL:PT1H
BEGIN:VTIMEZONE
TZID:America/New_York
BEGIN:DAYLIGHT
TZOFFSETFROM:-0500
TZOFFSETTO:-0400
TZNAME:EDT
DTSTART:20250309T070000
END:DAYLIGHT
BEGIN:STANDARD
TZOFFSETFROM:-0400
TZOFFSETTO:-0500
TZNAME:EST
DTSTART:20251102T060000
END:STANDARD
BEGIN:DAYLIGHT
TZOFFSETFROM:-0500
TZOFFSETTO:-0400
TZNAME:EDT
DTSTART:20260308T070000
END:DAYLIGHT
BEGIN:STANDARD
TZOFFSETFROM:-0400
TZOFFSETTO:-0500
TZNAME:EST
DTSTART:20261101T060000
END:STANDARD
BEGIN:DAYLIGHT
TZOFFSETFROM:-0500
TZOFFSETTO:-0400
TZNAME:EDT
DTSTART:20270314T070000
END:DAYLIGHT
BEGIN:STANDARD
TZOFFSETFROM:-0400
TZOFFSETTO:-0500
TZNAME:EST
DTSTART:20271107T060000
END:STANDARD
END:VTIMEZONE
BEGIN:VEVENT
DTSTART;TZID=America/New_York:20260502T100000
DTEND;TZID=America/New_York:20260502T120000
DTSTAMP:20260419T155411
CREATED:20260317T192842Z
LAST-MODIFIED:20260317T192842Z
UID:10002880-1777716000-1777723200@churchofthesacredheart.net
SUMMARY:Celebrate Mary!
DESCRIPTION:This Family Gathering will focus on the importance of the Rosary.
URL:https://churchofthesacredheart.net/event/celebrate-mary/
LOCATION:HSA Cafeteria
END:VEVENT
BEGIN:VEVENT
DTSTART;TZID=America/New_York:20260502T170000
DTEND;TZID=America/New_York:20260502T180000
DTSTAMP:20260419T155411
CREATED:20250902T234747Z
LAST-MODIFIED:20260307T181841Z
UID:10002772-1777741200-1777744800@churchofthesacredheart.net
SUMMARY:First Communion
DESCRIPTION:First Communicants with Family Names A-G.
URL:https://churchofthesacredheart.net/event/first-communion-5/
LOCATION:Church
END:VEVENT
BEGIN:VEVENT
DTSTART;TZID=America/New_York:20260503T090000
DTEND;TZID=America/New_York:20260503T100000
DTSTAMP:20260419T155411
CREATED:20250902T234822Z
LAST-MODIFIED:20260307T181944Z
UID:10002773-1777798800-1777802400@churchofthesacredheart.net
SUMMARY:First Communion
DESCRIPTION:First Communicants with Family Names J -P.
URL:https://churchofthesacredheart.net/event/first-communion-6/
LOCATION:Church
END:VEVENT
BEGIN:VEVENT
DTSTART;TZID=America/New_York:20260503T090000
DTEND;TZID=America/New_York:20260503T110000
DTSTAMP:20260419T155411
CREATED:20250902T234952Z
LAST-MODIFIED:20250902T234952Z
UID:10002775-1777798800-1777806000@churchofthesacredheart.net
SUMMARY:Adult Choir
DESCRIPTION:Choir sings 9 am Mass; Rehearsal until 11:00 am
URL:https://churchofthesacredheart.net/event/adult-choir-28/
LOCATION:Church
END:VEVENT
BEGIN:VEVENT
DTSTART;TZID=America/New_York:20260503T113000
DTEND;TZID=America/New_York:20260503T123000
DTSTAMP:20260419T155411
CREATED:20250902T234859Z
LAST-MODIFIED:20260307T182037Z
UID:10002774-1777807800-1777811400@churchofthesacredheart.net
SUMMARY:First Communion
DESCRIPTION:First Communicants with Family Names R-Z.
URL:https://churchofthesacredheart.net/event/first-communion-7/
LOCATION:Church
END:VEVENT
BEGIN:VEVENT
DTSTART;TZID=America/New_York:20260504T200000
DTEND;TZID=America/New_York:20260504T210000
DTSTAMP:20260419T155411
CREATED:20250902T235035Z
LAST-MODIFIED:20250902T235035Z
UID:10002776-1777924800-1777928400@churchofthesacredheart.net
SUMMARY:Rosary Altar Society Meeting
DESCRIPTION:
URL:https://churchofthesacredheart.net/event/rosary-altar-society-meeting-13/
LOCATION:Annex\, 149 South Plainfield Avenue\, South Plainfield\, NJ\, 07080\, United States
END:VEVENT
BEGIN:VEVENT
DTSTART;TZID=America/New_York:20260505T190000
DTEND;TZID=America/New_York:20260505T200000
DTSTAMP:20260419T155411
CREATED:20250902T235120Z
LAST-MODIFIED:20250902T235120Z
UID:10002777-1778007600-1778011200@churchofthesacredheart.net
SUMMARY:Baptism Class
DESCRIPTION:
URL:https://churchofthesacredheart.net/event/baptism-class-8/
LOCATION:Parish Center
END:VEVENT
BEGIN:VEVENT
DTSTART;TZID=America/New_York:20260505T190000
DTEND;TZID=America/New_York:20260505T200000
DTSTAMP:20260419T155411
CREATED:20250902T235202Z
LAST-MODIFIED:20250902T235202Z
UID:10002778-1778007600-1778011200@churchofthesacredheart.net
SUMMARY:Knights of Columbus Meeting
DESCRIPTION:
URL:https://churchofthesacredheart.net/event/knights-of-columbus-meeting-3/
LOCATION:Knights Hall\, 334 Hamilton Blvd.\, SOUTH PLAINFIELD\, NJ\, 07080\, United States
END:VEVENT
BEGIN:VEVENT
DTSTART;TZID=America/New_York:20260507T190000
DTEND;TZID=America/New_York:20260507T210000
DTSTAMP:20260419T155411
CREATED:20260120T190037Z
LAST-MODIFIED:20260120T190037Z
UID:10002870-1778180400-1778187600@churchofthesacredheart.net
SUMMARY:Bereavement Group
DESCRIPTION:
URL:https://churchofthesacredheart.net/event/bereavement-group-13/
LOCATION:Annex\, 149 South Plainfield Avenue\, South Plainfield\, NJ\, 07080\, United States
END:VEVENT
BEGIN:VEVENT
DTSTART;TZID=America/New_York:20260507T190000
DTEND;TZID=America/New_York:20260507T210000
DTSTAMP:20260419T155411
CREATED:20260226T155628Z
LAST-MODIFIED:20260226T155628Z
UID:10002877-1778180400-1778187600@churchofthesacredheart.net
SUMMARY:Bereavement Group
DESCRIPTION:
URL:https://churchofthesacredheart.net/event/bereavement-group-18/
LOCATION:Annex\, 149 South Plainfield Avenue\, South Plainfield\, NJ\, 07080\, United States
END:VEVENT
BEGIN:VEVENT
DTSTART;TZID=America/New_York:20260509T130000
DTEND;TZID=America/New_York:20260509T160000
DTSTAMP:20260419T155411
CREATED:20250326T151719Z
LAST-MODIFIED:20250326T151719Z
UID:10002559-1778331600-1778342400@churchofthesacredheart.net
SUMMARY:Wedding
DESCRIPTION:
URL:https://churchofthesacredheart.net/event/wedding-21/
LOCATION:Church
END:VEVENT
BEGIN:VEVENT
DTSTART;TZID=America/New_York:20260510T090000
DTEND;TZID=America/New_York:20260510T110000
DTSTAMP:20260419T155411
CREATED:20250902T235346Z
LAST-MODIFIED:20250902T235346Z
UID:10002780-1778403600-1778410800@churchofthesacredheart.net
SUMMARY:Adult Choir
DESCRIPTION:Choir sings 9 am Mass; Rehearsal until 11:00 am
URL:https://churchofthesacredheart.net/event/adult-choir-29/
LOCATION:Church
END:VEVENT
BEGIN:VEVENT
DTSTART;TZID=America/New_York:20260510T090000
DTEND;TZID=America/New_York:20260510T123000
DTSTAMP:20260419T155411
CREATED:20250902T235243Z
LAST-MODIFIED:20250902T235243Z
UID:10002779-1778403600-1778416200@churchofthesacredheart.net
SUMMARY:Mother's Day
DESCRIPTION:
URL:https://churchofthesacredheart.net/event/mothers-day-4/
LOCATION:Church
END:VEVENT
BEGIN:VEVENT
DTSTART;TZID=America/New_York:20260512T110000
DTEND;TZID=America/New_York:20260512T120000
DTSTAMP:20260419T155411
CREATED:20250902T235504Z
LAST-MODIFIED:20250902T235504Z
UID:10002782-1778583600-1778587200@churchofthesacredheart.net
SUMMARY:Staff Meeting
DESCRIPTION:
URL:https://churchofthesacredheart.net/event/staff-meeting-10/
LOCATION:Parish Center
END:VEVENT
BEGIN:VEVENT
DTSTART;TZID=America/New_York:20260513T190000
DTEND;TZID=America/New_York:20260513T210000
DTSTAMP:20260419T155411
CREATED:20240603T182414Z
LAST-MODIFIED:20240603T182414Z
UID:10002248-1778698800-1778706000@churchofthesacredheart.net
SUMMARY:In God's Image
DESCRIPTION:
URL:https://churchofthesacredheart.net/event/in-gods-image/2026-05-13/
END:VEVENT
BEGIN:VEVENT
DTSTART;TZID=America/New_York:20260514T190000
DTEND;TZID=America/New_York:20260514T210000
DTSTAMP:20260419T155411
CREATED:20260120T190119Z
LAST-MODIFIED:20260120T190119Z
UID:10002871-1778785200-1778792400@churchofthesacredheart.net
SUMMARY:Bereavement Group
DESCRIPTION:
URL:https://churchofthesacredheart.net/event/bereavement-group-14/
LOCATION:Annex\, 149 South Plainfield Avenue\, South Plainfield\, NJ\, 07080\, United States
END:VEVENT
BEGIN:VEVENT
DTSTART;TZID=America/New_York:20260514T190000
DTEND;TZID=America/New_York:20260514T210000
DTSTAMP:20260419T155411
CREATED:20260226T155715Z
LAST-MODIFIED:20260226T155715Z
UID:10002878-1778785200-1778792400@churchofthesacredheart.net
SUMMARY:Bereavement Group
DESCRIPTION:
URL:https://churchofthesacredheart.net/event/bereavement-group-19/
LOCATION:Annex\, 149 South Plainfield Avenue\, South Plainfield\, NJ\, 07080\, United States
END:VEVENT
BEGIN:VEVENT
DTSTART;TZID=America/New_York:20260516T170000
DTEND;TZID=America/New_York:20260516T170000
DTSTAMP:20260419T155411
CREATED:20250902T235548Z
LAST-MODIFIED:20250902T235548Z
UID:10002783-1778950800-1778950800@churchofthesacredheart.net
SUMMARY:Collection: Development of the Peoples
DESCRIPTION:
URL:https://churchofthesacredheart.net/event/collection-development-of-the-peoples/
LOCATION:Church
END:VEVENT
BEGIN:VEVENT
DTSTART;TZID=America/New_York:20260517T090000
DTEND;TZID=America/New_York:20260517T123000
DTSTAMP:20260419T155411
CREATED:20250902T235622Z
LAST-MODIFIED:20250902T235622Z
UID:10002784-1779008400-1779021000@churchofthesacredheart.net
SUMMARY:Ascension
DESCRIPTION:
URL:https://churchofthesacredheart.net/event/ascension/
LOCATION:Church
END:VEVENT
BEGIN:VEVENT
DTSTART;TZID=America/New_York:20260517T090000
DTEND;TZID=America/New_York:20260517T123000
DTSTAMP:20260419T155411
CREATED:20250902T235710Z
LAST-MODIFIED:20250902T235710Z
UID:10002785-1779008400-1779021000@churchofthesacredheart.net
SUMMARY:Collection: Development of the Peoples
DESCRIPTION:Collection at the 9 am and 11:30 am Masses
URL:https://churchofthesacredheart.net/event/collection-development-of-the-peoples-2/
LOCATION:Church
END:VEVENT
BEGIN:VEVENT
DTSTART;TZID=America/New_York:20260517T100000
DTEND;TZID=America/New_York:20260517T123000
DTSTAMP:20260419T155411
CREATED:20250902T235803Z
LAST-MODIFIED:20250902T235803Z
UID:10002786-1779012000-1779021000@churchofthesacredheart.net
SUMMARY:Adult Choir
DESCRIPTION:Choir rehearsal at 10:15 am until 11:00 am; Choir sings 11:30 am Mass
URL:https://churchofthesacredheart.net/event/adult-choir-30/
LOCATION:Church
END:VEVENT
BEGIN:VEVENT
DTSTART;TZID=America/New_York:20260517T130000
DTEND;TZID=America/New_York:20260517T140000
DTSTAMP:20260419T155411
CREATED:20250903T000337Z
LAST-MODIFIED:20260410T154428Z
UID:10002792-1779022800-1779026400@churchofthesacredheart.net
SUMMARY:Baptisms
DESCRIPTION:
URL:https://churchofthesacredheart.net/event/baptisms-17/
LOCATION:Church
END:VEVENT
BEGIN:VEVENT
DTSTART;TZID=America/New_York:20260519T190000
DTEND;TZID=America/New_York:20260519T210000
DTSTAMP:20260419T155411
CREATED:20251110T164333Z
LAST-MODIFIED:20251110T164333Z
UID:10002860-1779217200-1779224400@churchofthesacredheart.net
SUMMARY:Men's Spirituality Group: The Rescue Project
DESCRIPTION:
URL:https://churchofthesacredheart.net/event/mens-spirituality-group-the-rescue-project-5/
LOCATION:Annex\, 149 South Plainfield Avenue\, South Plainfield\, NJ\, 07080\, United States
END:VEVENT
BEGIN:VEVENT
DTSTART;TZID=America/New_York:20260520T180000
DTEND;TZID=America/New_York:20260520T200000
DTSTAMP:20260419T155411
CREATED:20250902T235859Z
LAST-MODIFIED:20250902T235859Z
UID:10002787-1779300000-1779307200@churchofthesacredheart.net
SUMMARY:Holy Savior Academy Art Show
DESCRIPTION:
URL:https://churchofthesacredheart.net/event/holy-savior-academy-art-show/
LOCATION:HSA Gym\, 149 South Plainfield\, SOUTH PLAINFIELD\, NJ\, 07080\, United States
END:VEVENT
BEGIN:VEVENT
DTSTART;TZID=America/New_York:20260521T170000
DTEND;TZID=America/New_York:20260521T190000
DTSTAMP:20260419T155411
CREATED:20250902T235958Z
LAST-MODIFIED:20250902T235958Z
UID:10002788-1779382800-1779390000@churchofthesacredheart.net
SUMMARY:St. Joseph High School Graduation
DESCRIPTION:
URL:https://churchofthesacredheart.net/event/st-joseph-high-school-graduation/
LOCATION:Church & HSA Gym\, 149 South Plainfield\, SOUTH PLAINFIELD\, NJ\, 07080\, United States
END:VEVENT
BEGIN:VEVENT
DTSTART;TZID=America/New_York:20260524T090000
DTEND;TZID=America/New_York:20260524T123000
DTSTAMP:20260419T155411
CREATED:20250903T000044Z
LAST-MODIFIED:20250903T000044Z
UID:10002789-1779613200-1779625800@churchofthesacredheart.net
SUMMARY:Pentecost
DESCRIPTION:
URL:https://churchofthesacredheart.net/event/pentecost-4/
LOCATION:Church
END:VEVENT
BEGIN:VEVENT
DTSTART;TZID=America/New_York:20260524T100000
DTEND;TZID=America/New_York:20260524T123000
DTSTAMP:20260419T155411
CREATED:20250903T000216Z
LAST-MODIFIED:20250903T000216Z
UID:10002790-1779616800-1779625800@churchofthesacredheart.net
SUMMARY:Adult Choir
DESCRIPTION:Choir rehearsal at 10:15 am until 11:00 am; Choir sings 11:30 Mass
URL:https://churchofthesacredheart.net/event/adult-choir-31/
LOCATION:Church
END:VEVENT
BEGIN:VEVENT
DTSTART;TZID=America/New_York:20260525T080000
DTEND;TZID=America/New_York:20260525T170000
DTSTAMP:20260419T155411
CREATED:20250903T000505Z
LAST-MODIFIED:20250903T000505Z
UID:10002793-1779696000-1779728400@churchofthesacredheart.net
SUMMARY:Memorial Day
DESCRIPTION:9 am Mass at Holy Redeemer Cemetery Mausoleum \nParish Center Closed; no Adoration; no Benediction; no 7 pm Mass
URL:https://churchofthesacredheart.net/event/memorial-day/
LOCATION:Holy Redeemer Mausoleum\, 149 South Plainfield\, SOUTH PLAINFIELD\, NJ\, 07080\, United States
END:VEVENT
BEGIN:VEVENT
DTSTART;TZID=America/New_York:20260527T160000
DTEND;TZID=America/New_York:20260527T170000
DTSTAMP:20260419T155411
CREATED:20250903T000544Z
LAST-MODIFIED:20250912T195019Z
UID:10002794-1779897600-1779901200@churchofthesacredheart.net
SUMMARY:Confirmation
DESCRIPTION:
URL:https://churchofthesacredheart.net/event/confirmation-4/
LOCATION:Church
END:VEVENT
BEGIN:VEVENT
DTSTART;TZID=America/New_York:20260529T180000
DTEND;TZID=America/New_York:20260529T200000
DTSTAMP:20260419T155411
CREATED:20250903T000648Z
LAST-MODIFIED:20250903T000648Z
UID:10002795-1780077600-1780084800@churchofthesacredheart.net
SUMMARY:Holy Savior Academy Spring Show
DESCRIPTION:Time TBD
URL:https://churchofthesacredheart.net/event/holy-savior-academy-spring-show/
LOCATION:HSA Gym\, 149 South Plainfield\, SOUTH PLAINFIELD\, NJ\, 07080\, United States
END:VEVENT
END:VCALENDAR