BEGIN:VCALENDAR
VERSION:2.0
PRODID:-//Church of the Sacred Heart - ECPv6.15.20//NONSGML v1.0//EN
CALSCALE:GREGORIAN
METHOD:PUBLISH
X-ORIGINAL-URL:https://churchofthesacredheart.net
X-WR-CALDESC:Events for Church of the Sacred Heart
REFRESH-INTERVAL;VALUE=DURATION:PT1H
X-Robots-Tag:noindex
X-PUBLISHED-TTL:PT1H
BEGIN:VTIMEZONE
TZID:America/New_York
BEGIN:DAYLIGHT
TZOFFSETFROM:-0500
TZOFFSETTO:-0400
TZNAME:EDT
DTSTART:20250309T070000
END:DAYLIGHT
BEGIN:STANDARD
TZOFFSETFROM:-0400
TZOFFSETTO:-0500
TZNAME:EST
DTSTART:20251102T060000
END:STANDARD
BEGIN:DAYLIGHT
TZOFFSETFROM:-0500
TZOFFSETTO:-0400
TZNAME:EDT
DTSTART:20260308T070000
END:DAYLIGHT
BEGIN:STANDARD
TZOFFSETFROM:-0400
TZOFFSETTO:-0500
TZNAME:EST
DTSTART:20261101T060000
END:STANDARD
BEGIN:DAYLIGHT
TZOFFSETFROM:-0500
TZOFFSETTO:-0400
TZNAME:EDT
DTSTART:20270314T070000
END:DAYLIGHT
BEGIN:STANDARD
TZOFFSETFROM:-0400
TZOFFSETTO:-0500
TZNAME:EST
DTSTART:20271107T060000
END:STANDARD
END:VTIMEZONE
BEGIN:VEVENT
DTSTART;TZID=America/New_York:20260301T080000
DTEND;TZID=America/New_York:20260301T170000
DTSTAMP:20260419T160020
CREATED:20250702T182703Z
LAST-MODIFIED:20250702T182703Z
UID:10002715-1772352000-1772384400@churchofthesacredheart.net
SUMMARY:Second Sunday of Lent
DESCRIPTION:
URL:https://churchofthesacredheart.net/event/second-sunday-of-lent/
LOCATION:Church
END:VEVENT
BEGIN:VEVENT
DTSTART;TZID=America/New_York:20260301T090000
DTEND;TZID=America/New_York:20260301T110000
DTSTAMP:20260419T160020
CREATED:20250702T182823Z
LAST-MODIFIED:20250702T182823Z
UID:10002716-1772355600-1772362800@churchofthesacredheart.net
SUMMARY:Adult Choir
DESCRIPTION:9 am Mass; rehearsal until 11 am.
URL:https://churchofthesacredheart.net/event/adult-choir-20/
LOCATION:Church
END:VEVENT
BEGIN:VEVENT
DTSTART;TZID=America/New_York:20260301T113000
DTEND;TZID=America/New_York:20260301T123000
DTSTAMP:20260419T160020
CREATED:20250702T182919Z
LAST-MODIFIED:20250702T182919Z
UID:10002717-1772364600-1772368200@churchofthesacredheart.net
SUMMARY:Handbell Choir
DESCRIPTION:
URL:https://churchofthesacredheart.net/event/handbell-choir-4/
LOCATION:Church
END:VEVENT
BEGIN:VEVENT
DTSTART;TZID=America/New_York:20260301T113000
DTEND;TZID=America/New_York:20260301T123000
DTSTAMP:20260419T160020
CREATED:20250702T183010Z
LAST-MODIFIED:20250702T183010Z
UID:10002718-1772364600-1772368200@churchofthesacredheart.net
SUMMARY:Children's Liturgy of the Word
DESCRIPTION:during 11:30 Mass
URL:https://churchofthesacredheart.net/event/childrens-liturgy-of-the-word-6/
LOCATION:Church
END:VEVENT
BEGIN:VEVENT
DTSTART;TZID=America/New_York:20260302T200000
DTEND;TZID=America/New_York:20260302T200000
DTSTAMP:20260419T160020
CREATED:20250702T183107Z
LAST-MODIFIED:20250702T183107Z
UID:10002719-1772481600-1772481600@churchofthesacredheart.net
SUMMARY:Rosary Altar Meeting
DESCRIPTION:
URL:https://churchofthesacredheart.net/event/rosary-altar-meeting-2/
LOCATION:Annex\, 149 South Plainfield Avenue\, South Plainfield\, NJ\, 07080\, United States
END:VEVENT
BEGIN:VEVENT
DTSTART;TZID=America/New_York:20260303T190000
DTEND;TZID=America/New_York:20260303T190000
DTSTAMP:20260419T160020
CREATED:20250702T183235Z
LAST-MODIFIED:20250702T183235Z
UID:10002721-1772564400-1772564400@churchofthesacredheart.net
SUMMARY:Knights of Columbus
DESCRIPTION:
URL:https://churchofthesacredheart.net/event/knights-of-columbus-7/
LOCATION:Knights Hall\, 334 Hamilton Blvd.\, SOUTH PLAINFIELD\, NJ\, 07080\, United States
END:VEVENT
BEGIN:VEVENT
DTSTART;TZID=America/New_York:20260303T190000
DTEND;TZID=America/New_York:20260303T210000
DTSTAMP:20260419T160020
CREATED:20250702T183147Z
LAST-MODIFIED:20250702T183147Z
UID:10002720-1772564400-1772571600@churchofthesacredheart.net
SUMMARY:Bereavement Meeting
DESCRIPTION:
URL:https://churchofthesacredheart.net/event/bereavement-meeting/
END:VEVENT
BEGIN:VEVENT
DTSTART;TZID=America/New_York:20260306T170000
DTEND;TZID=America/New_York:20260306T190000
DTSTAMP:20260419T160020
CREATED:20250702T183319Z
LAST-MODIFIED:20260303T203046Z
UID:10002722-1772816400-1772823600@churchofthesacredheart.net
SUMMARY:Lenten Fish Dinner
DESCRIPTION:
URL:https://churchofthesacredheart.net/event/lenten-fish-dinner-3/
LOCATION:Our Lady of Czestochowa
END:VEVENT
BEGIN:VEVENT
DTSTART;TZID=America/New_York:20260306T190000
DTEND;TZID=America/New_York:20260306T200000
DTSTAMP:20260419T160020
CREATED:20250702T183410Z
LAST-MODIFIED:20250702T183410Z
UID:10002723-1772823600-1772827200@churchofthesacredheart.net
SUMMARY:Stations of the Cross
DESCRIPTION:
URL:https://churchofthesacredheart.net/event/stations-of-the-cross-4/
LOCATION:Church
END:VEVENT
BEGIN:VEVENT
DTSTART;TZID=America/New_York:20260307T170000
DTEND;TZID=America/New_York:20260307T170000
DTSTAMP:20260419T160020
CREATED:20250702T183455Z
LAST-MODIFIED:20250702T183455Z
UID:10002724-1772902800-1772902800@churchofthesacredheart.net
SUMMARY:Collection: Catholic Press Month
DESCRIPTION:
URL:https://churchofthesacredheart.net/event/collection-catholic-press-month/
LOCATION:Church
END:VEVENT
BEGIN:VEVENT
DTSTART;TZID=America/New_York:20260308T080000
DTEND;TZID=America/New_York:20260308T170000
DTSTAMP:20260419T160020
CREATED:20250702T184259Z
LAST-MODIFIED:20250702T184259Z
UID:10002732-1772956800-1772989200@churchofthesacredheart.net
SUMMARY:Third Sunday of Lent
DESCRIPTION:
URL:https://churchofthesacredheart.net/event/third-sunday-of-lent/
LOCATION:Church
END:VEVENT
BEGIN:VEVENT
DTSTART;TZID=America/New_York:20260308T090000
DTEND;TZID=America/New_York:20260308T110000
DTSTAMP:20260419T160020
CREATED:20250702T183649Z
LAST-MODIFIED:20250702T183649Z
UID:10002726-1772960400-1772967600@churchofthesacredheart.net
SUMMARY:Adult Choir
DESCRIPTION:9 am Mass; rehearsal until 11 am
URL:https://churchofthesacredheart.net/event/adult-choir-21/
LOCATION:Church
END:VEVENT
BEGIN:VEVENT
DTSTART;TZID=America/New_York:20260310T130000
DTEND;TZID=America/New_York:20260310T130000
DTSTAMP:20260419T160020
CREATED:20250702T183729Z
LAST-MODIFIED:20250702T183729Z
UID:10002727-1773147600-1773147600@churchofthesacredheart.net
SUMMARY:Staff Meeting
DESCRIPTION:
URL:https://churchofthesacredheart.net/event/staff-meeting-8/
LOCATION:Parish Center
END:VEVENT
BEGIN:VEVENT
DTSTART;TZID=America/New_York:20260311T190000
DTEND;TZID=America/New_York:20260311T210000
DTSTAMP:20260419T160020
CREATED:20240603T182414Z
LAST-MODIFIED:20240603T182414Z
UID:10002246-1773255600-1773262800@churchofthesacredheart.net
SUMMARY:In God's Image
DESCRIPTION:
URL:https://churchofthesacredheart.net/event/in-gods-image/2026-03-11/
END:VEVENT
BEGIN:VEVENT
DTSTART;TZID=America/New_York:20260313T170000
DTEND;TZID=America/New_York:20260313T190000
DTSTAMP:20260419T160020
CREATED:20250702T183806Z
LAST-MODIFIED:20260303T203000Z
UID:10002728-1773421200-1773428400@churchofthesacredheart.net
SUMMARY:Lenten Fish Dinner
DESCRIPTION:
URL:https://churchofthesacredheart.net/event/lenten-fish-dinner-4/
LOCATION:Our Lady of Czestochowa
END:VEVENT
BEGIN:VEVENT
DTSTART;TZID=America/New_York:20260313T190000
DTEND;TZID=America/New_York:20260313T200000
DTSTAMP:20260419T160020
CREATED:20250702T183849Z
LAST-MODIFIED:20250702T183849Z
UID:10002729-1773428400-1773432000@churchofthesacredheart.net
SUMMARY:Stations of the Cross
DESCRIPTION:7:15 pm
URL:https://churchofthesacredheart.net/event/stations-of-the-cross-5/
LOCATION:Church
END:VEVENT
BEGIN:VEVENT
DTSTART;TZID=America/New_York:20260315T080000
DTEND;TZID=America/New_York:20260315T170000
DTSTAMP:20260419T160020
CREATED:20250702T184043Z
LAST-MODIFIED:20250702T184043Z
UID:10002730-1773561600-1773594000@churchofthesacredheart.net
SUMMARY:Laetare Sunday
DESCRIPTION:
URL:https://churchofthesacredheart.net/event/laetare-sunday/
LOCATION:Church
END:VEVENT
BEGIN:VEVENT
DTSTART;TZID=America/New_York:20260315T100000
DTEND;TZID=America/New_York:20260315T123000
DTSTAMP:20260419T160020
CREATED:20250702T184228Z
LAST-MODIFIED:20250702T184228Z
UID:10002731-1773568800-1773577800@churchofthesacredheart.net
SUMMARY:Adult Choir
DESCRIPTION:rehearsal at 10:15 am; sings 11:30 Mass
URL:https://churchofthesacredheart.net/event/adult-choir-22/
LOCATION:Church
END:VEVENT
BEGIN:VEVENT
DTSTART;TZID=America/New_York:20260317T190000
DTEND;TZID=America/New_York:20260317T210000
DTSTAMP:20260419T160020
CREATED:20251110T164147Z
LAST-MODIFIED:20251110T164147Z
UID:10002858-1773774000-1773781200@churchofthesacredheart.net
SUMMARY:Men's Spirituality Group: The Rescue Project
DESCRIPTION:
URL:https://churchofthesacredheart.net/event/mens-spirituality-group-the-rescue-project-3/
LOCATION:Annex\, 149 South Plainfield Avenue\, South Plainfield\, NJ\, 07080\, United States
END:VEVENT
BEGIN:VEVENT
DTSTART;TZID=America/New_York:20260318T160000
DTEND;TZID=America/New_York:20260318T170000
DTSTAMP:20260419T160020
CREATED:20250702T184350Z
LAST-MODIFIED:20250702T184350Z
UID:10002733-1773849600-1773853200@churchofthesacredheart.net
SUMMARY:Living Stations of the Cross Rehearsal
DESCRIPTION:Religious Ed program event
URL:https://churchofthesacredheart.net/event/living-stations-of-the-cross-rehearsal-3/
LOCATION:Church
END:VEVENT
BEGIN:VEVENT
DTSTART;TZID=America/New_York:20260319T183000
DTEND;TZID=America/New_York:20260319T193000
DTSTAMP:20260419T160020
CREATED:20250702T184448Z
LAST-MODIFIED:20250702T184448Z
UID:10002734-1773945000-1773948600@churchofthesacredheart.net
SUMMARY:Family Gathering Religious Ed
DESCRIPTION:St. Joseph’s Day event
URL:https://churchofthesacredheart.net/event/family-gathering-religious-ed-3/
LOCATION:HSA Cafeteria
END:VEVENT
BEGIN:VEVENT
DTSTART;TZID=America/New_York:20260320T170000
DTEND;TZID=America/New_York:20260320T190000
DTSTAMP:20260419T160020
CREATED:20250702T184525Z
LAST-MODIFIED:20260303T202907Z
UID:10002735-1774026000-1774033200@churchofthesacredheart.net
SUMMARY:Lenten Fish Dinner
DESCRIPTION:
URL:https://churchofthesacredheart.net/event/lenten-fish-dinner-5/
LOCATION:Our Lady of Czestochowa
END:VEVENT
BEGIN:VEVENT
DTSTART;TZID=America/New_York:20260320T190000
DTEND;TZID=America/New_York:20260320T200000
DTSTAMP:20260419T160020
CREATED:20250702T184628Z
LAST-MODIFIED:20250702T184628Z
UID:10002736-1774033200-1774036800@churchofthesacredheart.net
SUMMARY:Living Stations of the Cross Rel Ed
DESCRIPTION:7:15 pm. Family Gathering event for Religious Education
URL:https://churchofthesacredheart.net/event/living-stations-of-the-cross-rel-ed/
LOCATION:Church
END:VEVENT
BEGIN:VEVENT
DTSTART;TZID=America/New_York:20260321T133000
DTEND;TZID=America/New_York:20260321T150000
DTSTAMP:20260419T160020
CREATED:20250702T184715Z
LAST-MODIFIED:20250702T184715Z
UID:10002737-1774099800-1774105200@churchofthesacredheart.net
SUMMARY:Confirmation Retreat
DESCRIPTION:
URL:https://churchofthesacredheart.net/event/confirmation-retreat-16/
LOCATION:Parish Center
END:VEVENT
BEGIN:VEVENT
DTSTART;TZID=America/New_York:20260322T080000
DTEND;TZID=America/New_York:20260322T170000
DTSTAMP:20260419T160020
CREATED:20250702T184805Z
LAST-MODIFIED:20250702T184805Z
UID:10002738-1774166400-1774198800@churchofthesacredheart.net
SUMMARY:Fifth Sunday of Lent
DESCRIPTION:
URL:https://churchofthesacredheart.net/event/fifth-sunday-of-lent/
LOCATION:Church
END:VEVENT
BEGIN:VEVENT
DTSTART;TZID=America/New_York:20260322T100000
DTEND;TZID=America/New_York:20260322T123000
DTSTAMP:20260419T160020
CREATED:20250702T184901Z
LAST-MODIFIED:20250702T184901Z
UID:10002739-1774173600-1774182600@churchofthesacredheart.net
SUMMARY:Adult Choir
DESCRIPTION:rehearsal at 10:15 am; sings 11:30 Mas
URL:https://churchofthesacredheart.net/event/adult-choir-23/
LOCATION:Church
END:VEVENT
BEGIN:VEVENT
DTSTART;TZID=America/New_York:20260322T133000
DTEND;TZID=America/New_York:20260322T150000
DTSTAMP:20260419T160020
CREATED:20250702T184946Z
LAST-MODIFIED:20250702T184946Z
UID:10002740-1774186200-1774191600@churchofthesacredheart.net
SUMMARY:Confirmation Retreat
DESCRIPTION:
URL:https://churchofthesacredheart.net/event/confirmation-retreat-17/
LOCATION:Parish Center
END:VEVENT
BEGIN:VEVENT
DTSTART;TZID=America/New_York:20260323T160000
DTEND;TZID=America/New_York:20260323T173000
DTSTAMP:20260419T160020
CREATED:20250702T185037Z
LAST-MODIFIED:20250702T185037Z
UID:10002741-1774281600-1774287000@churchofthesacredheart.net
SUMMARY:Confirmation Retreat
DESCRIPTION:
URL:https://churchofthesacredheart.net/event/confirmation-retreat-18/
LOCATION:Parish Center
END:VEVENT
BEGIN:VEVENT
DTSTART;TZID=America/New_York:20260324T180000
DTEND;TZID=America/New_York:20260324T193000
DTSTAMP:20260419T160020
CREATED:20250702T185121Z
LAST-MODIFIED:20250702T185121Z
UID:10002742-1774375200-1774380600@churchofthesacredheart.net
SUMMARY:Confirmation Retreat
DESCRIPTION:
URL:https://churchofthesacredheart.net/event/confirmation-retreat-19/
LOCATION:Parish Center
END:VEVENT
BEGIN:VEVENT
DTSTART;TZID=America/New_York:20260327T143000
DTEND;TZID=America/New_York:20260327T153000
DTSTAMP:20260419T160020
CREATED:20250220T162639Z
LAST-MODIFIED:20250220T163809Z
UID:10002540-1774621800-1774625400@churchofthesacredheart.net
SUMMARY:Wedding
DESCRIPTION:
URL:https://churchofthesacredheart.net/event/wedding-18/
LOCATION:Church
END:VEVENT
END:VCALENDAR