BEGIN:VCALENDAR
VERSION:2.0
PRODID:-//Church of the Sacred Heart - ECPv6.15.20//NONSGML v1.0//EN
CALSCALE:GREGORIAN
METHOD:PUBLISH
X-ORIGINAL-URL:https://churchofthesacredheart.net
X-WR-CALDESC:Events for Church of the Sacred Heart
REFRESH-INTERVAL;VALUE=DURATION:PT1H
X-Robots-Tag:noindex
X-PUBLISHED-TTL:PT1H
BEGIN:VTIMEZONE
TZID:America/New_York
BEGIN:DAYLIGHT
TZOFFSETFROM:-0500
TZOFFSETTO:-0400
TZNAME:EDT
DTSTART:20250309T070000
END:DAYLIGHT
BEGIN:STANDARD
TZOFFSETFROM:-0400
TZOFFSETTO:-0500
TZNAME:EST
DTSTART:20251102T060000
END:STANDARD
BEGIN:DAYLIGHT
TZOFFSETFROM:-0500
TZOFFSETTO:-0400
TZNAME:EDT
DTSTART:20260308T070000
END:DAYLIGHT
BEGIN:STANDARD
TZOFFSETFROM:-0400
TZOFFSETTO:-0500
TZNAME:EST
DTSTART:20261101T060000
END:STANDARD
BEGIN:DAYLIGHT
TZOFFSETFROM:-0500
TZOFFSETTO:-0400
TZNAME:EDT
DTSTART:20270314T070000
END:DAYLIGHT
BEGIN:STANDARD
TZOFFSETFROM:-0400
TZOFFSETTO:-0500
TZNAME:EST
DTSTART:20271107T060000
END:STANDARD
END:VTIMEZONE
BEGIN:VEVENT
DTSTART;TZID=America/New_York:20260201T090000
DTEND;TZID=America/New_York:20260201T110000
DTSTAMP:20260419T173218
CREATED:20250701T180046Z
LAST-MODIFIED:20250701T180046Z
UID:10002691-1769936400-1769943600@churchofthesacredheart.net
SUMMARY:Adult Choir
DESCRIPTION:9 am Mass; rehearsal until 11 am
URL:https://churchofthesacredheart.net/event/adult-choir-16/
LOCATION:Church
END:VEVENT
BEGIN:VEVENT
DTSTART;TZID=America/New_York:20260201T113000
DTEND;TZID=America/New_York:20260201T123000
DTSTAMP:20260419T173218
CREATED:20250701T180128Z
LAST-MODIFIED:20250701T180128Z
UID:10002692-1769945400-1769949000@churchofthesacredheart.net
SUMMARY:Handbell Choir
DESCRIPTION:plays at 11:30 Mass
URL:https://churchofthesacredheart.net/event/handbell-choir-3/
LOCATION:Church
END:VEVENT
BEGIN:VEVENT
DTSTART;TZID=America/New_York:20260201T113000
DTEND;TZID=America/New_York:20260201T123000
DTSTAMP:20260419T173218
CREATED:20250701T180210Z
LAST-MODIFIED:20250701T180210Z
UID:10002693-1769945400-1769949000@churchofthesacredheart.net
SUMMARY:Children's Liturgy of the Word
DESCRIPTION:during 11:30 Mass
URL:https://churchofthesacredheart.net/event/childrens-liturgy-of-the-word-5/
LOCATION:Church
END:VEVENT
BEGIN:VEVENT
DTSTART;TZID=America/New_York:20260202T200000
DTEND;TZID=America/New_York:20260202T200000
DTSTAMP:20260419T173218
CREATED:20250701T180249Z
LAST-MODIFIED:20250701T180249Z
UID:10002694-1770062400-1770062400@churchofthesacredheart.net
SUMMARY:Rosary Altar Meeting
DESCRIPTION:
URL:https://churchofthesacredheart.net/event/rosary-altar-meeting/
LOCATION:Annex\, 149 South Plainfield Avenue\, South Plainfield\, NJ\, 07080\, United States
END:VEVENT
BEGIN:VEVENT
DTSTART;TZID=America/New_York:20260203T190000
DTEND;TZID=America/New_York:20260203T190000
DTSTAMP:20260419T173218
CREATED:20250701T180328Z
LAST-MODIFIED:20250701T180328Z
UID:10002695-1770145200-1770145200@churchofthesacredheart.net
SUMMARY:Baptism Class
DESCRIPTION:
URL:https://churchofthesacredheart.net/event/baptism-class-7/
LOCATION:Parish Center
END:VEVENT
BEGIN:VEVENT
DTSTART;TZID=America/New_York:20260203T190000
DTEND;TZID=America/New_York:20260203T190000
DTSTAMP:20260419T173218
CREATED:20250701T180444Z
LAST-MODIFIED:20250701T180444Z
UID:10002697-1770145200-1770145200@churchofthesacredheart.net
SUMMARY:Knights of Columbus
DESCRIPTION:
URL:https://churchofthesacredheart.net/event/knights-of-columbus-6/
LOCATION:Knights Hall\, 334 Hamilton Blvd.\, SOUTH PLAINFIELD\, NJ\, 07080\, United States
END:VEVENT
BEGIN:VEVENT
DTSTART;TZID=America/New_York:20260203T190000
DTEND;TZID=America/New_York:20260203T210000
DTSTAMP:20260419T173218
CREATED:20250701T180404Z
LAST-MODIFIED:20250701T180404Z
UID:10002696-1770145200-1770152400@churchofthesacredheart.net
SUMMARY:Bereavement Group
DESCRIPTION:
URL:https://churchofthesacredheart.net/event/bereavement-group-4/
LOCATION:Annex\, 149 South Plainfield Avenue\, South Plainfield\, NJ\, 07080\, United States
END:VEVENT
BEGIN:VEVENT
DTSTART;TZID=America/New_York:20260208T090000
DTEND;TZID=America/New_York:20260208T110000
DTSTAMP:20260419T173218
CREATED:20250701T180530Z
LAST-MODIFIED:20250701T180530Z
UID:10002698-1770541200-1770548400@churchofthesacredheart.net
SUMMARY:Adult Choir
DESCRIPTION:9 am Mass; rehearsal until 11 am
URL:https://churchofthesacredheart.net/event/adult-choir-17/
LOCATION:Church
END:VEVENT
BEGIN:VEVENT
DTSTART;TZID=America/New_York:20260208T130000
DTEND;TZID=America/New_York:20260208T140000
DTSTAMP:20260419T173218
CREATED:20250701T180603Z
LAST-MODIFIED:20250701T180603Z
UID:10002699-1770555600-1770559200@churchofthesacredheart.net
SUMMARY:Baptisms
DESCRIPTION:
URL:https://churchofthesacredheart.net/event/baptisms-13/
LOCATION:Church
END:VEVENT
BEGIN:VEVENT
DTSTART;TZID=America/New_York:20260210T130000
DTEND;TZID=America/New_York:20260210T130000
DTSTAMP:20260419T173218
CREATED:20250701T180653Z
LAST-MODIFIED:20250701T180653Z
UID:10002700-1770728400-1770728400@churchofthesacredheart.net
SUMMARY:Staff Meeting
DESCRIPTION:
URL:https://churchofthesacredheart.net/event/staff-meeting-7/
LOCATION:Parish Center
END:VEVENT
BEGIN:VEVENT
DTSTART;TZID=America/New_York:20260210T183000
DTEND;TZID=America/New_York:20260210T193000
DTSTAMP:20260419T173218
CREATED:20250701T180819Z
LAST-MODIFIED:20250701T180819Z
UID:10002702-1770748200-1770751800@churchofthesacredheart.net
SUMMARY:Family Gathering for Religious Ed
DESCRIPTION:
URL:https://churchofthesacredheart.net/event/family-gathering-for-religious-ed-2/
LOCATION:Church
END:VEVENT
BEGIN:VEVENT
DTSTART;TZID=America/New_York:20260210T190000
DTEND;TZID=America/New_York:20260210T210000
DTSTAMP:20260419T173218
CREATED:20250701T180731Z
LAST-MODIFIED:20250701T180731Z
UID:10002701-1770750000-1770757200@churchofthesacredheart.net
SUMMARY:Bereavement Group
DESCRIPTION:
URL:https://churchofthesacredheart.net/event/bereavement-group-5/
LOCATION:Annex\, 149 South Plainfield Avenue\, South Plainfield\, NJ\, 07080\, United States
END:VEVENT
BEGIN:VEVENT
DTSTART;TZID=America/New_York:20260211T190000
DTEND;TZID=America/New_York:20260211T210000
DTSTAMP:20260419T173218
CREATED:20240603T182414Z
LAST-MODIFIED:20240603T182414Z
UID:10002245-1770836400-1770843600@churchofthesacredheart.net
SUMMARY:In God's Image
DESCRIPTION:
URL:https://churchofthesacredheart.net/event/in-gods-image/2026-02-11/
END:VEVENT
BEGIN:VEVENT
DTSTART;TZID=America/New_York:20260214T080000
DTEND;TZID=America/New_York:20260214T170000
DTSTAMP:20260419T173218
CREATED:20250220T162315Z
LAST-MODIFIED:20250220T162315Z
UID:10002539-1771056000-1771088400@churchofthesacredheart.net
SUMMARY:Convalidation  Time TBD
DESCRIPTION:
URL:https://churchofthesacredheart.net/event/convalidation-time-tbd/
LOCATION:Church
END:VEVENT
BEGIN:VEVENT
DTSTART;TZID=America/New_York:20260215T100000
DTEND;TZID=America/New_York:20260215T123000
DTSTAMP:20260419T173218
CREATED:20250701T180917Z
LAST-MODIFIED:20250701T180917Z
UID:10002703-1771149600-1771158600@churchofthesacredheart.net
SUMMARY:Adult Choir
DESCRIPTION:rehearsal at 10:15 am; sings 11:30 Mass
URL:https://churchofthesacredheart.net/event/adult-choir-18/
LOCATION:Church
END:VEVENT
BEGIN:VEVENT
DTSTART;TZID=America/New_York:20260217T190000
DTEND;TZID=America/New_York:20260217T210000
DTSTAMP:20260419T173218
CREATED:20250701T180954Z
LAST-MODIFIED:20250701T180954Z
UID:10002704-1771354800-1771362000@churchofthesacredheart.net
SUMMARY:Bereavement Group
DESCRIPTION:
URL:https://churchofthesacredheart.net/event/bereavement-group-6/
LOCATION:Annex\, 149 South Plainfield Avenue\, South Plainfield\, NJ\, 07080\, United States
END:VEVENT
BEGIN:VEVENT
DTSTART;TZID=America/New_York:20260217T193000
DTEND;TZID=America/New_York:20260217T210000
DTSTAMP:20260419T173218
CREATED:20251120T200904Z
LAST-MODIFIED:20251120T200904Z
UID:10002863-1771356600-1771362000@churchofthesacredheart.net
SUMMARY:Men's Spirituality Group: Rescue Project
DESCRIPTION:
URL:https://churchofthesacredheart.net/event/mens-spirituality-group-rescue-project-2/
END:VEVENT
BEGIN:VEVENT
DTSTART;TZID=America/New_York:20260218T070000
DTEND;TZID=America/New_York:20260218T180000
DTSTAMP:20260419T173218
CREATED:20250701T181119Z
LAST-MODIFIED:20250701T181119Z
UID:10002705-1771398000-1771437600@churchofthesacredheart.net
SUMMARY:Ash Wednesday
DESCRIPTION:Masses with ashes: 7 am\, 9 am \nPrayer Service with ashes: 12:10 pm\, 6 pm \n 
URL:https://churchofthesacredheart.net/event/ash-wednesday-4/
LOCATION:Church
END:VEVENT
BEGIN:VEVENT
DTSTART;TZID=America/New_York:20260220T170000
DTEND;TZID=America/New_York:20260220T190000
DTSTAMP:20260419T173218
CREATED:20250701T181205Z
LAST-MODIFIED:20260303T203213Z
UID:10002706-1771606800-1771614000@churchofthesacredheart.net
SUMMARY:Lenten Fish Dinner
DESCRIPTION:
URL:https://churchofthesacredheart.net/event/lenten-fish-dinner/
LOCATION:Our Lady of Czestochowa
END:VEVENT
BEGIN:VEVENT
DTSTART;TZID=America/New_York:20260220T190000
DTEND;TZID=America/New_York:20260220T200000
DTSTAMP:20260419T173218
CREATED:20250701T181249Z
LAST-MODIFIED:20250701T181249Z
UID:10002707-1771614000-1771617600@churchofthesacredheart.net
SUMMARY:Stations of the Cross
DESCRIPTION:7:15 pm
URL:https://churchofthesacredheart.net/event/stations-of-the-cross-3/
LOCATION:Church
END:VEVENT
BEGIN:VEVENT
DTSTART;TZID=America/New_York:20260222T080000
DTEND;TZID=America/New_York:20260222T170000
DTSTAMP:20260419T173218
CREATED:20250701T181320Z
LAST-MODIFIED:20250701T181320Z
UID:10002708-1771747200-1771779600@churchofthesacredheart.net
SUMMARY:First Sunday of Lent
DESCRIPTION:
URL:https://churchofthesacredheart.net/event/first-sunday-of-lent/
LOCATION:Church
END:VEVENT
BEGIN:VEVENT
DTSTART;TZID=America/New_York:20260222T090000
DTEND;TZID=America/New_York:20260222T090000
DTSTAMP:20260419T173218
CREATED:20250701T181434Z
LAST-MODIFIED:20250701T181434Z
UID:10002709-1771750800-1771750800@churchofthesacredheart.net
SUMMARY:OCIA Rite of Sending
DESCRIPTION:
URL:https://churchofthesacredheart.net/event/ocia-rite-of-sending/
LOCATION:Church
END:VEVENT
BEGIN:VEVENT
DTSTART;TZID=America/New_York:20260222T100000
DTEND;TZID=America/New_York:20260222T123000
DTSTAMP:20260419T173218
CREATED:20250701T181606Z
LAST-MODIFIED:20250701T181606Z
UID:10002711-1771754400-1771763400@churchofthesacredheart.net
SUMMARY:Adult Choir
DESCRIPTION:rehearsal at 10:15 am; sings 11:30 Mass
URL:https://churchofthesacredheart.net/event/adult-choir-19/
LOCATION:Church
END:VEVENT
BEGIN:VEVENT
DTSTART;TZID=America/New_York:20260222T140000
DTEND;TZID=America/New_York:20260222T153000
DTSTAMP:20260419T173218
CREATED:20250701T181514Z
LAST-MODIFIED:20250701T181514Z
UID:10002710-1771768800-1771774200@churchofthesacredheart.net
SUMMARY:OCIA Rite of Election
DESCRIPTION:
URL:https://churchofthesacredheart.net/event/ocia-rite-of-election/
LOCATION:Cathedral\, 32 Elm Ave.\, Metuchen\, NJ\, 08840\, United States
END:VEVENT
BEGIN:VEVENT
DTSTART;TZID=America/New_York:20260224T190000
DTEND;TZID=America/New_York:20260224T210000
DTSTAMP:20260419T173218
CREATED:20250701T181648Z
LAST-MODIFIED:20251204T162826Z
UID:10002712-1771959600-1771966800@churchofthesacredheart.net
SUMMARY:Bereavement Group
DESCRIPTION:
URL:https://churchofthesacredheart.net/event/bereavement-group-7/
LOCATION:Parish Center
END:VEVENT
BEGIN:VEVENT
DTSTART;TZID=America/New_York:20260227T170000
DTEND;TZID=America/New_York:20260227T190000
DTSTAMP:20260419T173218
CREATED:20250701T181722Z
LAST-MODIFIED:20260303T203130Z
UID:10002713-1772211600-1772218800@churchofthesacredheart.net
SUMMARY:Lenten Fish Dinner
DESCRIPTION:
URL:https://churchofthesacredheart.net/event/lenten-fish-dinner-2/
LOCATION:Our Lady of Czestochowa
END:VEVENT
BEGIN:VEVENT
DTSTART;TZID=America/New_York:20260227T190000
DTEND;TZID=America/New_York:20260227T200000
DTSTAMP:20260419T173218
CREATED:20250701T181803Z
LAST-MODIFIED:20250701T181803Z
UID:10002714-1772218800-1772222400@churchofthesacredheart.net
SUMMARY:Stations of the Cross\, 7:15 pm
DESCRIPTION:
URL:https://churchofthesacredheart.net/event/stations-of-the-cross-715-pm/
LOCATION:Church
END:VEVENT
BEGIN:VEVENT
DTSTART;TZID=America/New_York:20260228T183000
DTEND;TZID=America/New_York:20260228T213000
DTSTAMP:20260419T173218
CREATED:20250702T185601Z
LAST-MODIFIED:20260120T150618Z
UID:10002745-1772303400-1772314200@churchofthesacredheart.net
SUMMARY:Mystery Fundraiser and Dinner
DESCRIPTION:
URL:https://churchofthesacredheart.net/event/murder-mystery-fundraiser-and-dinner/
END:VEVENT
END:VCALENDAR