BEGIN:VCALENDAR
VERSION:2.0
PRODID:-//Church of the Sacred Heart - ECPv6.15.20//NONSGML v1.0//EN
CALSCALE:GREGORIAN
METHOD:PUBLISH
X-WR-CALNAME:Church of the Sacred Heart
X-ORIGINAL-URL:https://churchofthesacredheart.net
X-WR-CALDESC:Events for Church of the Sacred Heart
REFRESH-INTERVAL;VALUE=DURATION:PT1H
X-Robots-Tag:noindex
X-PUBLISHED-TTL:PT1H
BEGIN:VTIMEZONE
TZID:America/New_York
BEGIN:DAYLIGHT
TZOFFSETFROM:-0500
TZOFFSETTO:-0400
TZNAME:EDT
DTSTART:20240310T070000
END:DAYLIGHT
BEGIN:STANDARD
TZOFFSETFROM:-0400
TZOFFSETTO:-0500
TZNAME:EST
DTSTART:20241103T060000
END:STANDARD
BEGIN:DAYLIGHT
TZOFFSETFROM:-0500
TZOFFSETTO:-0400
TZNAME:EDT
DTSTART:20250309T070000
END:DAYLIGHT
BEGIN:STANDARD
TZOFFSETFROM:-0400
TZOFFSETTO:-0500
TZNAME:EST
DTSTART:20251102T060000
END:STANDARD
BEGIN:DAYLIGHT
TZOFFSETFROM:-0500
TZOFFSETTO:-0400
TZNAME:EDT
DTSTART:20260308T070000
END:DAYLIGHT
BEGIN:STANDARD
TZOFFSETFROM:-0400
TZOFFSETTO:-0500
TZNAME:EST
DTSTART:20261101T060000
END:STANDARD
END:VTIMEZONE
BEGIN:VEVENT
DTSTART;TZID=America/New_York:20251101T090000
DTEND;TZID=America/New_York:20251101T100000
DTSTAMP:20260419T225023
CREATED:20250912T191847Z
LAST-MODIFIED:20250912T191847Z
UID:10002820-1761987600-1761991200@churchofthesacredheart.net
SUMMARY:All Saints Day 9 am Mass
DESCRIPTION:
URL:https://churchofthesacredheart.net/event/all-saints-day-9-am-mass/
LOCATION:Church
END:VEVENT
BEGIN:VEVENT
DTSTART;TZID=America/New_York:20251101T170000
DTEND;TZID=America/New_York:20251101T180000
DTSTAMP:20260419T225023
CREATED:20250912T191924Z
LAST-MODIFIED:20250912T191924Z
UID:10002821-1762016400-1762020000@churchofthesacredheart.net
SUMMARY:All Souls Day Mass 5 pm
DESCRIPTION:
URL:https://churchofthesacredheart.net/event/all-souls-day-mass-5-pm/
LOCATION:Church
END:VEVENT
BEGIN:VEVENT
DTSTART;TZID=America/New_York:20251102T090000
DTEND;TZID=America/New_York:20251102T110000
DTSTAMP:20260419T225023
CREATED:20250912T192235Z
LAST-MODIFIED:20250912T192235Z
UID:10002823-1762074000-1762081200@churchofthesacredheart.net
SUMMARY:Adult Choir
DESCRIPTION:Choir sings 9 am Mass; choir rehearsal until 11 am
URL:https://churchofthesacredheart.net/event/adult-choir-37/
LOCATION:Church
END:VEVENT
BEGIN:VEVENT
DTSTART;TZID=America/New_York:20251102T113000
DTEND;TZID=America/New_York:20251102T123000
DTSTAMP:20260419T225023
CREATED:20250724T141230Z
LAST-MODIFIED:20250724T141230Z
UID:10002752-1762083000-1762086600@churchofthesacredheart.net
SUMMARY:Choir Sings
DESCRIPTION:
URL:https://churchofthesacredheart.net/event/choir-sings/
LOCATION:Church
END:VEVENT
BEGIN:VEVENT
DTSTART;TZID=America/New_York:20251102T113000
DTEND;TZID=America/New_York:20251102T123000
DTSTAMP:20260419T225023
CREATED:20250912T192019Z
LAST-MODIFIED:20250912T192019Z
UID:10002822-1762083000-1762086600@churchofthesacredheart.net
SUMMARY:Children's Liturgy of the Word
DESCRIPTION:
URL:https://churchofthesacredheart.net/event/childrens-liturgy-of-the-word-8/
LOCATION:Church
END:VEVENT
BEGIN:VEVENT
DTSTART;TZID=America/New_York:20251103T200000
DTEND;TZID=America/New_York:20251103T210000
DTSTAMP:20260419T225023
CREATED:20250912T192329Z
LAST-MODIFIED:20250912T192329Z
UID:10002824-1762200000-1762203600@churchofthesacredheart.net
SUMMARY:Rosary Altar Society Meeting
DESCRIPTION:Rosary Altar Society meets in Annex
URL:https://churchofthesacredheart.net/event/rosary-altar-society-meeting-15/
LOCATION:Annex\, 149 South Plainfield Avenue\, South Plainfield\, NJ\, 07080\, United States
END:VEVENT
BEGIN:VEVENT
DTSTART;TZID=America/New_York:20251104T190000
DTEND;TZID=America/New_York:20251104T200000
DTSTAMP:20260419T225023
CREATED:20250912T192423Z
LAST-MODIFIED:20250912T192423Z
UID:10002825-1762282800-1762286400@churchofthesacredheart.net
SUMMARY:Baptism Class
DESCRIPTION:Parents and Godparents meet in Parish Center
URL:https://churchofthesacredheart.net/event/baptism-class-10/
LOCATION:Parish Center
END:VEVENT
BEGIN:VEVENT
DTSTART;TZID=America/New_York:20251104T190000
DTEND;TZID=America/New_York:20251104T200000
DTSTAMP:20260419T225023
CREATED:20250912T192509Z
LAST-MODIFIED:20250912T192509Z
UID:10002826-1762282800-1762286400@churchofthesacredheart.net
SUMMARY:Knights of Columbus
DESCRIPTION:Knights meet at Knights Hall
URL:https://churchofthesacredheart.net/event/knights-of-columbus-8/
LOCATION:Knights Hall\, 334 Hamilton Blvd.\, SOUTH PLAINFIELD\, NJ\, 07080\, United States
END:VEVENT
BEGIN:VEVENT
DTSTART;TZID=America/New_York:20251108T080000
DTEND;TZID=America/New_York:20251108T170000
DTSTAMP:20260419T225023
CREATED:20250409T153651Z
LAST-MODIFIED:20250409T153651Z
UID:10002576-1762588800-1762621200@churchofthesacredheart.net
SUMMARY:Collection for the Archdiocese for the Military Services USA
DESCRIPTION:
URL:https://churchofthesacredheart.net/event/collection-for-the-archdiocese-for-the-military-services-usa-3/
LOCATION:Church
END:VEVENT
BEGIN:VEVENT
DTSTART;TZID=America/New_York:20251108T153000
DTEND;TZID=America/New_York:20251108T170000
DTSTAMP:20260419T225023
CREATED:20250912T192606Z
LAST-MODIFIED:20250912T192606Z
UID:10002827-1762615800-1762621200@churchofthesacredheart.net
SUMMARY:Altar Server Training
DESCRIPTION:Altar servers meet 3:45 pm to 4:45 pm in church
URL:https://churchofthesacredheart.net/event/altar-server-training/
LOCATION:Church
END:VEVENT
BEGIN:VEVENT
DTSTART;TZID=America/New_York:20251109T080000
DTEND;TZID=America/New_York:20251109T170000
DTSTAMP:20260419T225023
CREATED:20250319T175333Z
LAST-MODIFIED:20250319T175333Z
UID:10002554-1762675200-1762707600@churchofthesacredheart.net
SUMMARY:Diocesan NPM Meeting
DESCRIPTION:Time TBD
URL:https://churchofthesacredheart.net/event/diocesan-npm-meeting/
LOCATION:Church
END:VEVENT
BEGIN:VEVENT
DTSTART;TZID=America/New_York:20251109T080000
DTEND;TZID=America/New_York:20251109T170000
DTSTAMP:20260419T225023
CREATED:20250409T153712Z
LAST-MODIFIED:20250409T153712Z
UID:10002577-1762675200-1762707600@churchofthesacredheart.net
SUMMARY:Collection for the Archdiocese for the Military Services USA
DESCRIPTION:
URL:https://churchofthesacredheart.net/event/collection-for-the-archdiocese-for-the-military-services-usa-4/
LOCATION:Church
END:VEVENT
BEGIN:VEVENT
DTSTART;TZID=America/New_York:20251109T090000
DTEND;TZID=America/New_York:20251109T110000
DTSTAMP:20260419T225023
CREATED:20250912T192723Z
LAST-MODIFIED:20250912T192723Z
UID:10002828-1762678800-1762686000@churchofthesacredheart.net
SUMMARY:Adult Choir
DESCRIPTION:Choir sings 9 am Mass; choir rehearsal until 11 am
URL:https://churchofthesacredheart.net/event/adult-choir-38/
LOCATION:Church
END:VEVENT
BEGIN:VEVENT
DTSTART;TZID=America/New_York:20251109T150000
DTEND;TZID=America/New_York:20251109T170000
DTSTAMP:20260419T225023
CREATED:20251104T170608Z
LAST-MODIFIED:20251104T170608Z
UID:10002855-1762700400-1762707600@churchofthesacredheart.net
SUMMARY:St Cecilia Sing Concert
DESCRIPTION:Parish choirs from around the diocese
URL:https://churchofthesacredheart.net/event/st-cecilia-sing-concert/
LOCATION:Church
END:VEVENT
BEGIN:VEVENT
DTSTART;TZID=America/New_York:20251111T080000
DTEND;TZID=America/New_York:20251111T170000
DTSTAMP:20260419T225023
CREATED:20250912T192834Z
LAST-MODIFIED:20250912T192834Z
UID:10002830-1762848000-1762880400@churchofthesacredheart.net
SUMMARY:Veterans Day
DESCRIPTION:
URL:https://churchofthesacredheart.net/event/veterans-day-3/
END:VEVENT
BEGIN:VEVENT
DTSTART;TZID=America/New_York:20251111T110000
DTEND;TZID=America/New_York:20251111T120000
DTSTAMP:20260419T225023
CREATED:20250912T192804Z
LAST-MODIFIED:20250912T192804Z
UID:10002829-1762858800-1762862400@churchofthesacredheart.net
SUMMARY:Staff Meeting
DESCRIPTION:
URL:https://churchofthesacredheart.net/event/staff-meeting-12/
LOCATION:Parish Center
END:VEVENT
BEGIN:VEVENT
DTSTART;TZID=America/New_York:20251112T190000
DTEND;TZID=America/New_York:20251112T210000
DTSTAMP:20260419T225023
CREATED:20240603T182414Z
LAST-MODIFIED:20240603T182414Z
UID:10002242-1762974000-1762981200@churchofthesacredheart.net
SUMMARY:In God's Image
DESCRIPTION:
URL:https://churchofthesacredheart.net/event/in-gods-image/2025-11-12/
END:VEVENT
BEGIN:VEVENT
DTSTART;TZID=America/New_York:20251114T163000
DTEND;TZID=America/New_York:20251114T173000
DTSTAMP:20260419T225023
CREATED:20250414T115429Z
LAST-MODIFIED:20250415T115452Z
UID:10002585-1763137800-1763141400@churchofthesacredheart.net
SUMMARY:Rehearsal
DESCRIPTION:
URL:https://churchofthesacredheart.net/event/rehearsal-19/
LOCATION:Church
END:VEVENT
BEGIN:VEVENT
DTSTART;TZID=America/New_York:20251115T140000
DTEND;TZID=America/New_York:20251115T153000
DTSTAMP:20260419T225023
CREATED:20240719T144732Z
LAST-MODIFIED:20240719T144732Z
UID:10002431-1763215200-1763220600@churchofthesacredheart.net
SUMMARY:Wedding
DESCRIPTION:
URL:https://churchofthesacredheart.net/event/wedding-30/
LOCATION:Church
END:VEVENT
BEGIN:VEVENT
DTSTART;TZID=America/New_York:20251116T100000
DTEND;TZID=America/New_York:20251116T123000
DTSTAMP:20260419T225023
CREATED:20250912T193032Z
LAST-MODIFIED:20250912T193032Z
UID:10002832-1763287200-1763296200@churchofthesacredheart.net
SUMMARY:Adult Choir
DESCRIPTION:Choir rehearsal begins at 10:15 am; Choir sings 11:30 Mass
URL:https://churchofthesacredheart.net/event/adult-choir-39/
LOCATION:Church
END:VEVENT
BEGIN:VEVENT
DTSTART;TZID=America/New_York:20251116T133000
DTEND;TZID=America/New_York:20251116T150000
DTSTAMP:20260419T225023
CREATED:20250912T193131Z
LAST-MODIFIED:20250912T193131Z
UID:10002833-1763299800-1763305200@churchofthesacredheart.net
SUMMARY:First Reconciliation Retreat
DESCRIPTION:Children meet in church
URL:https://churchofthesacredheart.net/event/first-reconciliation-retreat-10/
LOCATION:Church
END:VEVENT
BEGIN:VEVENT
DTSTART;TZID=America/New_York:20251117T160000
DTEND;TZID=America/New_York:20251117T173000
DTSTAMP:20260419T225023
CREATED:20250912T193220Z
LAST-MODIFIED:20250912T193220Z
UID:10002834-1763395200-1763400600@churchofthesacredheart.net
SUMMARY:First Reconciliation Retreat
DESCRIPTION:Children meet in church.
URL:https://churchofthesacredheart.net/event/first-reconciliation-retreat-11/
LOCATION:Church
END:VEVENT
BEGIN:VEVENT
DTSTART;TZID=America/New_York:20251118T160000
DTEND;TZID=America/New_York:20251118T173000
DTSTAMP:20260419T225023
CREATED:20250912T193307Z
LAST-MODIFIED:20250912T193307Z
UID:10002835-1763481600-1763487000@churchofthesacredheart.net
SUMMARY:First Reconciliation Retreat
DESCRIPTION:Children meet in church.
URL:https://churchofthesacredheart.net/event/first-reconciliation-retreat-12/
LOCATION:Church
END:VEVENT
BEGIN:VEVENT
DTSTART;TZID=America/New_York:20251118T190000
DTEND;TZID=America/New_York:20251118T210000
DTSTAMP:20260419T225023
CREATED:20251110T163953Z
LAST-MODIFIED:20251110T163953Z
UID:10002856-1763492400-1763499600@churchofthesacredheart.net
SUMMARY:Men's Spirituality Group: The Rescue Project
DESCRIPTION:
URL:https://churchofthesacredheart.net/event/mens-spirituality-group-the-rescue-project/
LOCATION:Annex\, 149 South Plainfield Avenue\, South Plainfield\, NJ\, 07080\, United States
END:VEVENT
BEGIN:VEVENT
DTSTART;TZID=America/New_York:20251121T170000
DTEND;TZID=America/New_York:20251121T210000
DTSTAMP:20260419T225023
CREATED:20250912T193343Z
LAST-MODIFIED:20250912T193343Z
UID:10002836-1763744400-1763758800@churchofthesacredheart.net
SUMMARY:Religious Ed Family Gathering
DESCRIPTION:
URL:https://churchofthesacredheart.net/event/religious-ed-family-gathering/
END:VEVENT
BEGIN:VEVENT
DTSTART;TZID=America/New_York:20251122T080000
DTEND;TZID=America/New_York:20251122T170000
DTSTAMP:20260419T225023
CREATED:20250409T153757Z
LAST-MODIFIED:20250409T153757Z
UID:10002578-1763798400-1763830800@churchofthesacredheart.net
SUMMARY:Works of Mercy Collection
DESCRIPTION:
URL:https://churchofthesacredheart.net/event/works-of-mercy-collection-3/
LOCATION:Church
END:VEVENT
BEGIN:VEVENT
DTSTART;TZID=America/New_York:20251122T153000
DTEND;TZID=America/New_York:20251122T170000
DTSTAMP:20260419T225023
CREATED:20250912T193432Z
LAST-MODIFIED:20250912T193432Z
UID:10002837-1763825400-1763830800@churchofthesacredheart.net
SUMMARY:Altar Server Training
DESCRIPTION:Altar servers meet in church for training 3:45 pm to 4:45 pm
URL:https://churchofthesacredheart.net/event/altar-server-training-3/
LOCATION:Church
END:VEVENT
BEGIN:VEVENT
DTSTART;TZID=America/New_York:20251123T080000
DTEND;TZID=America/New_York:20251123T170000
DTSTAMP:20260419T225023
CREATED:20250409T153828Z
LAST-MODIFIED:20250409T153828Z
UID:10002579-1763884800-1763917200@churchofthesacredheart.net
SUMMARY:Works of Mercy Collection
DESCRIPTION:
URL:https://churchofthesacredheart.net/event/works-of-mercy-collection-4/
LOCATION:Church
END:VEVENT
BEGIN:VEVENT
DTSTART;TZID=America/New_York:20251123T100000
DTEND;TZID=America/New_York:20251123T123000
DTSTAMP:20260419T225023
CREATED:20250912T193536Z
LAST-MODIFIED:20250912T193536Z
UID:10002838-1763892000-1763901000@churchofthesacredheart.net
SUMMARY:Adult Choir
DESCRIPTION:Choir rehearsal begins at 10:15 am; Choir sings 11:30 Mass
URL:https://churchofthesacredheart.net/event/adult-choir-40/
LOCATION:Church
END:VEVENT
BEGIN:VEVENT
DTSTART;TZID=America/New_York:20251123T130000
DTEND;TZID=America/New_York:20251123T140000
DTSTAMP:20260419T225023
CREATED:20250912T193607Z
LAST-MODIFIED:20250912T193607Z
UID:10002839-1763902800-1763906400@churchofthesacredheart.net
SUMMARY:Baptisms
DESCRIPTION:
URL:https://churchofthesacredheart.net/event/baptisms-20/
LOCATION:Church
END:VEVENT
END:VCALENDAR