BEGIN:VCALENDAR
VERSION:2.0
PRODID:-//Church of the Sacred Heart - ECPv6.15.20//NONSGML v1.0//EN
CALSCALE:GREGORIAN
METHOD:PUBLISH
X-WR-CALNAME:Church of the Sacred Heart
X-ORIGINAL-URL:https://churchofthesacredheart.net
X-WR-CALDESC:Events for Church of the Sacred Heart
REFRESH-INTERVAL;VALUE=DURATION:PT1H
X-Robots-Tag:noindex
X-PUBLISHED-TTL:PT1H
BEGIN:VTIMEZONE
TZID:America/New_York
BEGIN:DAYLIGHT
TZOFFSETFROM:-0500
TZOFFSETTO:-0400
TZNAME:EDT
DTSTART:20220313T070000
END:DAYLIGHT
BEGIN:STANDARD
TZOFFSETFROM:-0400
TZOFFSETTO:-0500
TZNAME:EST
DTSTART:20221106T060000
END:STANDARD
BEGIN:DAYLIGHT
TZOFFSETFROM:-0500
TZOFFSETTO:-0400
TZNAME:EDT
DTSTART:20230312T070000
END:DAYLIGHT
BEGIN:STANDARD
TZOFFSETFROM:-0400
TZOFFSETTO:-0500
TZNAME:EST
DTSTART:20231105T060000
END:STANDARD
BEGIN:DAYLIGHT
TZOFFSETFROM:-0500
TZOFFSETTO:-0400
TZNAME:EDT
DTSTART:20240310T070000
END:DAYLIGHT
BEGIN:STANDARD
TZOFFSETFROM:-0400
TZOFFSETTO:-0500
TZNAME:EST
DTSTART:20241103T060000
END:STANDARD
END:VTIMEZONE
BEGIN:VEVENT
DTSTART;TZID=America/New_York:20231214T080000
DTEND;TZID=America/New_York:20231214T170000
DTSTAMP:20260421T082747
CREATED:20231108T192503Z
LAST-MODIFIED:20231108T192503Z
UID:10001966-1702540800-1702573200@churchofthesacredheart.net
SUMMARY:Relic of St. Jude
DESCRIPTION:Mass at 7:00pm
URL:https://churchofthesacredheart.net/event/relic-of-st-jude/
LOCATION:Church
CATEGORIES:Special Event
END:VEVENT
BEGIN:VEVENT
DTSTART;TZID=America/New_York:20231222T190000
DTEND;TZID=America/New_York:20231222T233000
DTSTAMP:20260421T082747
CREATED:20230911T142231Z
LAST-MODIFIED:20231215T144116Z
UID:10001684-1703271600-1703287800@churchofthesacredheart.net
SUMMARY:Simbang Gabi
DESCRIPTION:Mass 7:00pm followed by reception in cafeteria
URL:https://churchofthesacredheart.net/event/simbang-gabi-2/
LOCATION:Church and HSA Cafeteria
CATEGORIES:Special Event
END:VEVENT
BEGIN:VEVENT
DTSTART;TZID=America/New_York:20231230T120000
DTEND;TZID=America/New_York:20231230T220000
DTSTAMP:20260421T082747
CREATED:20231128T134337Z
LAST-MODIFIED:20231128T134337Z
UID:10001981-1703937600-1703973600@churchofthesacredheart.net
SUMMARY:Gujarati Christmas Celebration
DESCRIPTION:
URL:https://churchofthesacredheart.net/event/gujarati-christmas-celebration/
LOCATION:HSA Cafeteria
CATEGORIES:Special Event
END:VEVENT
END:VCALENDAR