BEGIN:VCALENDAR
VERSION:2.0
PRODID:-//Church of the Sacred Heart - ECPv6.15.20//NONSGML v1.0//EN
CALSCALE:GREGORIAN
METHOD:PUBLISH
X-WR-CALNAME:Church of the Sacred Heart
X-ORIGINAL-URL:https://churchofthesacredheart.net
X-WR-CALDESC:Events for Church of the Sacred Heart
REFRESH-INTERVAL;VALUE=DURATION:PT1H
X-Robots-Tag:noindex
X-PUBLISHED-TTL:PT1H
BEGIN:VTIMEZONE
TZID:America/New_York
BEGIN:DAYLIGHT
TZOFFSETFROM:-0500
TZOFFSETTO:-0400
TZNAME:EDT
DTSTART:20220313T070000
END:DAYLIGHT
BEGIN:STANDARD
TZOFFSETFROM:-0400
TZOFFSETTO:-0500
TZNAME:EST
DTSTART:20221106T060000
END:STANDARD
BEGIN:DAYLIGHT
TZOFFSETFROM:-0500
TZOFFSETTO:-0400
TZNAME:EDT
DTSTART:20230312T070000
END:DAYLIGHT
BEGIN:STANDARD
TZOFFSETFROM:-0400
TZOFFSETTO:-0500
TZNAME:EST
DTSTART:20231105T060000
END:STANDARD
BEGIN:DAYLIGHT
TZOFFSETFROM:-0500
TZOFFSETTO:-0400
TZNAME:EDT
DTSTART:20240310T070000
END:DAYLIGHT
BEGIN:STANDARD
TZOFFSETFROM:-0400
TZOFFSETTO:-0500
TZNAME:EST
DTSTART:20241103T060000
END:STANDARD
END:VTIMEZONE
BEGIN:VEVENT
DTSTART;TZID=America/New_York:20231018T130000
DTEND;TZID=America/New_York:20231018T140000
DTSTAMP:20260423T115211
CREATED:20231010T185847Z
LAST-MODIFIED:20231010T185847Z
UID:10001780-1697634000-1697637600@churchofthesacredheart.net
SUMMARY:HSA Living Rosary
DESCRIPTION:
URL:https://churchofthesacredheart.net/event/hsa-living-rosary/
LOCATION:Church
CATEGORIES:HSA
END:VEVENT
BEGIN:VEVENT
DTSTART;TZID=America/New_York:20231026T190000
DTEND;TZID=America/New_York:20231026T203000
DTSTAMP:20260423T115211
CREATED:20230810T145051Z
LAST-MODIFIED:20230810T145051Z
UID:10001672-1698346800-1698352200@churchofthesacredheart.net
SUMMARY:HSA Halloween Dance
DESCRIPTION:
URL:https://churchofthesacredheart.net/event/hsa-halloween-dance/
LOCATION:HSA Gym\, 149 South Plainfield\, SOUTH PLAINFIELD\, NJ\, 07080\, United States
CATEGORIES:HSA
END:VEVENT
BEGIN:VEVENT
DTSTART;TZID=America/New_York:20231031T130000
DTEND;TZID=America/New_York:20231031T150000
DTSTAMP:20260423T115211
CREATED:20230612T121954Z
LAST-MODIFIED:20230612T121954Z
UID:10001313-1698757200-1698764400@churchofthesacredheart.net
SUMMARY:HSA Halloween Parade & Trunk or Treat
DESCRIPTION:
URL:https://churchofthesacredheart.net/event/hsa-halloween-parade-trunk-or-treat/
LOCATION:Parking Lot\, 149 South Plainfield\, SOUTH PLAINFIELD\, NJ\, 07080\, United States
CATEGORIES:HSA
END:VEVENT
END:VCALENDAR