BEGIN:VCALENDAR
VERSION:2.0
PRODID:-//Church of the Sacred Heart - ECPv6.15.20//NONSGML v1.0//EN
CALSCALE:GREGORIAN
METHOD:PUBLISH
X-WR-CALNAME:Church of the Sacred Heart
X-ORIGINAL-URL:https://churchofthesacredheart.net
X-WR-CALDESC:Events for Church of the Sacred Heart
REFRESH-INTERVAL;VALUE=DURATION:PT1H
X-Robots-Tag:noindex
X-PUBLISHED-TTL:PT1H
BEGIN:VTIMEZONE
TZID:America/New_York
BEGIN:DAYLIGHT
TZOFFSETFROM:-0500
TZOFFSETTO:-0400
TZNAME:EDT
DTSTART:20230312T070000
END:DAYLIGHT
BEGIN:STANDARD
TZOFFSETFROM:-0400
TZOFFSETTO:-0500
TZNAME:EST
DTSTART:20231105T060000
END:STANDARD
BEGIN:DAYLIGHT
TZOFFSETFROM:-0500
TZOFFSETTO:-0400
TZNAME:EDT
DTSTART:20240310T070000
END:DAYLIGHT
BEGIN:STANDARD
TZOFFSETFROM:-0400
TZOFFSETTO:-0500
TZNAME:EST
DTSTART:20241103T060000
END:STANDARD
BEGIN:DAYLIGHT
TZOFFSETFROM:-0500
TZOFFSETTO:-0400
TZNAME:EDT
DTSTART:20250309T070000
END:DAYLIGHT
BEGIN:STANDARD
TZOFFSETFROM:-0400
TZOFFSETTO:-0500
TZNAME:EST
DTSTART:20251102T060000
END:STANDARD
END:VTIMEZONE
BEGIN:VEVENT
DTSTART;TZID=America/New_York:20240609T130000
DTEND;TZID=America/New_York:20240609T140000
DTSTAMP:20260421T175550
CREATED:20230608T143915Z
LAST-MODIFIED:20230608T143915Z
UID:10000103-1717938000-1717941600@churchofthesacredheart.net
SUMMARY:Baptism
DESCRIPTION:
URL:https://churchofthesacredheart.net/event/baptism-5/2024-06-09/
LOCATION:Church
CATEGORIES:Baptism
END:VEVENT
BEGIN:VEVENT
DTSTART;TZID=America/New_York:20240615T120000
DTEND;TZID=America/New_York:20240615T130000
DTSTAMP:20260421T175550
CREATED:20240429T140603Z
LAST-MODIFIED:20240528T181152Z
UID:10002101-1718452800-1718456400@churchofthesacredheart.net
SUMMARY:Private Baptism
DESCRIPTION:Fr. Anthony/St. Helena celebrating
URL:https://churchofthesacredheart.net/event/private-baptism/
LOCATION:Church
CATEGORIES:Baptism
END:VEVENT
BEGIN:VEVENT
DTSTART;TZID=America/New_York:20240623T130000
DTEND;TZID=America/New_York:20240623T140000
DTSTAMP:20260421T175550
CREATED:20230608T145125Z
LAST-MODIFIED:20230608T145125Z
UID:10000118-1719147600-1719151200@churchofthesacredheart.net
SUMMARY:Baptism
DESCRIPTION:
URL:https://churchofthesacredheart.net/event/baptism-6/2024-06-23/
LOCATION:149 South Plainfield\, SOUTH PLAINFIELD\, NJ\, 07080\, United States
CATEGORIES:Baptism
END:VEVENT
END:VCALENDAR