BEGIN:VCALENDAR
VERSION:2.0
PRODID:-//Church of the Sacred Heart - ECPv6.15.20//NONSGML v1.0//EN
CALSCALE:GREGORIAN
METHOD:PUBLISH
X-WR-CALNAME:Church of the Sacred Heart
X-ORIGINAL-URL:https://churchofthesacredheart.net
X-WR-CALDESC:Events for Church of the Sacred Heart
REFRESH-INTERVAL;VALUE=DURATION:PT1H
X-Robots-Tag:noindex
X-PUBLISHED-TTL:PT1H
BEGIN:VTIMEZONE
TZID:America/New_York
BEGIN:DAYLIGHT
TZOFFSETFROM:-0500
TZOFFSETTO:-0400
TZNAME:EDT
DTSTART:20230312T070000
END:DAYLIGHT
BEGIN:STANDARD
TZOFFSETFROM:-0400
TZOFFSETTO:-0500
TZNAME:EST
DTSTART:20231105T060000
END:STANDARD
BEGIN:DAYLIGHT
TZOFFSETFROM:-0500
TZOFFSETTO:-0400
TZNAME:EDT
DTSTART:20240310T070000
END:DAYLIGHT
BEGIN:STANDARD
TZOFFSETFROM:-0400
TZOFFSETTO:-0500
TZNAME:EST
DTSTART:20241103T060000
END:STANDARD
BEGIN:DAYLIGHT
TZOFFSETFROM:-0500
TZOFFSETTO:-0400
TZNAME:EDT
DTSTART:20250309T070000
END:DAYLIGHT
BEGIN:STANDARD
TZOFFSETFROM:-0400
TZOFFSETTO:-0500
TZNAME:EST
DTSTART:20251102T060000
END:STANDARD
END:VTIMEZONE
BEGIN:VEVENT
DTSTART;TZID=America/New_York:20240204T103000
DTEND;TZID=America/New_York:20240204T111500
DTSTAMP:20260421T183835
CREATED:20230612T132411Z
LAST-MODIFIED:20230612T132411Z
UID:10001354-1707042600-1707045300@churchofthesacredheart.net
SUMMARY:Adult Choir Rehearsal
DESCRIPTION:
URL:https://churchofthesacredheart.net/event/adult-choir-rehearsal-4/2024-02-04/
LOCATION:Church
CATEGORIES:Adult Choir
END:VEVENT
BEGIN:VEVENT
DTSTART;TZID=America/New_York:20240218T101500
DTEND;TZID=America/New_York:20240218T110000
DTSTAMP:20260421T183835
CREATED:20230612T135940Z
LAST-MODIFIED:20230612T140007Z
UID:10001364-1708251300-1708254000@churchofthesacredheart.net
SUMMARY:Adult Choir Rehearsal
DESCRIPTION:
URL:https://churchofthesacredheart.net/event/adult-choir-rehearsal-5/2024-02-18/
LOCATION:Church
CATEGORIES:Adult Choir
END:VEVENT
BEGIN:VEVENT
DTSTART;TZID=America/New_York:20240225T101500
DTEND;TZID=America/New_York:20240225T110000
DTSTAMP:20260421T183835
CREATED:20230612T140159Z
LAST-MODIFIED:20230612T140159Z
UID:10001374-1708856100-1708858800@churchofthesacredheart.net
SUMMARY:Adult Choir Rehearsal
DESCRIPTION:
URL:https://churchofthesacredheart.net/event/adult-choir-rehearsal-6/2024-02-25/
LOCATION:Church
CATEGORIES:Adult Choir
END:VEVENT
END:VCALENDAR