BEGIN:VCALENDAR
VERSION:2.0
PRODID:-//Church of the Sacred Heart - ECPv6.15.20//NONSGML v1.0//EN
CALSCALE:GREGORIAN
METHOD:PUBLISH
X-WR-CALNAME:Church of the Sacred Heart
X-ORIGINAL-URL:https://churchofthesacredheart.net
X-WR-CALDESC:Events for Church of the Sacred Heart
REFRESH-INTERVAL;VALUE=DURATION:PT1H
X-Robots-Tag:noindex
X-PUBLISHED-TTL:PT1H
BEGIN:VTIMEZONE
TZID:America/New_York
BEGIN:DAYLIGHT
TZOFFSETFROM:-0500
TZOFFSETTO:-0400
TZNAME:EDT
DTSTART:20220313T070000
END:DAYLIGHT
BEGIN:STANDARD
TZOFFSETFROM:-0400
TZOFFSETTO:-0500
TZNAME:EST
DTSTART:20221106T060000
END:STANDARD
BEGIN:DAYLIGHT
TZOFFSETFROM:-0500
TZOFFSETTO:-0400
TZNAME:EDT
DTSTART:20230312T070000
END:DAYLIGHT
BEGIN:STANDARD
TZOFFSETFROM:-0400
TZOFFSETTO:-0500
TZNAME:EST
DTSTART:20231105T060000
END:STANDARD
BEGIN:DAYLIGHT
TZOFFSETFROM:-0500
TZOFFSETTO:-0400
TZNAME:EDT
DTSTART:20240310T070000
END:DAYLIGHT
BEGIN:STANDARD
TZOFFSETFROM:-0400
TZOFFSETTO:-0500
TZNAME:EST
DTSTART:20241103T060000
END:STANDARD
END:VTIMEZONE
BEGIN:VEVENT
DTSTART;TZID=America/New_York:20231203T103000
DTEND;TZID=America/New_York:20231203T111500
DTSTAMP:20260421T221740
CREATED:20230612T132411Z
LAST-MODIFIED:20230612T132411Z
UID:10001352-1701599400-1701602100@churchofthesacredheart.net
SUMMARY:Adult Choir Rehearsal
DESCRIPTION:
URL:https://churchofthesacredheart.net/event/adult-choir-rehearsal-4/2023-12-03/
LOCATION:Church
CATEGORIES:Adult Choir
END:VEVENT
BEGIN:VEVENT
DTSTART;TZID=America/New_York:20231210T103000
DTEND;TZID=America/New_York:20231210T113000
DTSTAMP:20260421T221740
CREATED:20231115T152432Z
LAST-MODIFIED:20231115T152432Z
UID:10001975-1702204200-1702207800@churchofthesacredheart.net
SUMMARY:Adult Choir Rehearsal
DESCRIPTION:
URL:https://churchofthesacredheart.net/event/adult-choir-rehearsal-3/
LOCATION:Church
CATEGORIES:Adult Choir
END:VEVENT
BEGIN:VEVENT
DTSTART;TZID=America/New_York:20231217T101500
DTEND;TZID=America/New_York:20231217T110000
DTSTAMP:20260421T221740
CREATED:20230612T135940Z
LAST-MODIFIED:20230612T140007Z
UID:10001362-1702808100-1702810800@churchofthesacredheart.net
SUMMARY:Adult Choir Rehearsal
DESCRIPTION:
URL:https://churchofthesacredheart.net/event/adult-choir-rehearsal-5/2023-12-17/
LOCATION:Church
CATEGORIES:Adult Choir
END:VEVENT
END:VCALENDAR